BEGIN:VCALENDAR
VERSION:2.0
PRODID:-//www.thearcfamilyinstitute.org//NONSGML kigkonsult.se iCalcreator 
 2.30.10//
CALSCALE:GREGORIAN
METHOD:PUBLISH
UID:767e357e-ef51-406f-bdf4-a7cb2c2f0f86
X-WR-CALDESC:
X-WR-RELCALID:de27ed50710f94c778be08dfe7edaba1
X-WR-TIMEZONE:America/New_York
BEGIN:VTIMEZONE
TZID:America/New_York
BEGIN:STANDARD
TZNAME:EST
DTSTART:20221106T020000
TZOFFSETFROM:-0400
TZOFFSETTO:-0500
RDATE:20231105T020000
END:STANDARD
BEGIN:DAYLIGHT
TZNAME:EDT
DTSTART:20220313T020000
TZOFFSETFROM:-0500
TZOFFSETTO:-0400
RDATE:20230312T020000
RDATE:20240310T020000
END:DAYLIGHT
END:VTIMEZONE
BEGIN:VEVENT
UID:b527f879-e7f1-4886-88d2-293bac68e73e
DTSTAMP:20260425T125651Z
DESCRIPTION:
DTSTART;TZID=America/New_York:20230309T190000
DTEND;TZID=America/New_York:20230309T210000
LOCATION:Arc Kohler School\, 1137 Globe Ave\, Mountainside\, NJ 07092
SUMMARY:The Arc of Union County: Special Needs Caregiver's Support Group/Fo
 rum (Mountainside)
END:VEVENT
END:VCALENDAR
