BEGIN:VCALENDAR
VERSION:2.0
PRODID:-//www.thearcfamilyinstitute.org//NONSGML kigkonsult.se iCalcreator 
 2.30.10//
CALSCALE:GREGORIAN
METHOD:PUBLISH
UID:84acc56f-f0e2-4cd3-889a-8a043e0212d5
X-WR-CALDESC:Many Grandparents have become Parents to their Grandchildren. 
 There are unique adjustments & stressors to parenting Grandchildren. Come 
 to our support group & share your experiences in a safe place.\n\nNo regis
 tration needed\, open door. Please call 1 week before if childcare is need
 ed\, we provide free childcare.
X-WR-RELCALID:3c287d17c3b47bfd35395a819df2f3b3
X-WR-TIMEZONE:America/New_York
BEGIN:VTIMEZONE
TZID:America/New_York
BEGIN:STANDARD
TZNAME:EST
DTSTART:20221106T020000
TZOFFSETFROM:-0400
TZOFFSETTO:-0500
RDATE:20231105T020000
END:STANDARD
BEGIN:DAYLIGHT
TZNAME:EDT
DTSTART:20220313T020000
TZOFFSETFROM:-0500
TZOFFSETTO:-0400
RDATE:20230312T020000
RDATE:20240310T020000
END:DAYLIGHT
END:VTIMEZONE
BEGIN:VEVENT
UID:b95b7049-9f89-4b5f-8dcf-c5d602bd2178
DTSTAMP:20260425T141636Z
DESCRIPTION:Many Grandparents have become Parents to their Grandchildren. T
 here are unique adjustments & stressors to parenting Grandchildren. Come t
 o our support group & share your experiences in a safe place.\n\nNo regist
 ration needed\, open door. Please call 1 week before if childcare is neede
 d\, we provide free childcare.
DTSTART;TZID=America/New_York:20230213T100000
DTEND;TZID=America/New_York:20230213T120000
LOCATION:Mercer County Family Support Organization\, 3535 Quakerbridge Road
 \, Suite 400\, Hamilton\, NJ 08619
SUMMARY:Grandparents Support Group (Hamilton)
END:VEVENT
END:VCALENDAR
