BEGIN:VCALENDAR
VERSION:2.0
PRODID:-//www.thearcfamilyinstitute.org//NONSGML kigkonsult.se iCalcreator 
 2.30.10//
CALSCALE:GREGORIAN
METHOD:PUBLISH
UID:0858d9c4-fd8f-4444-88ae-aece06467a36
X-WR-CALDESC:Support\, informational and education source for parent and ca
 regivers of children in the Autism Spectrum.  Quarterly guest speaker pres
 ent on issues of interest to the community.
X-WR-RELCALID:fad010bd0ae41f085a963a156b69c79d
X-WR-TIMEZONE:America/New_York
BEGIN:VTIMEZONE
TZID:America/New_York
BEGIN:STANDARD
TZNAME:EST
DTSTART:20211107T020000
TZOFFSETFROM:-0400
TZOFFSETTO:-0500
RDATE:20221106T020000
RDATE:20231105T020000
END:STANDARD
BEGIN:DAYLIGHT
TZNAME:EDT
DTSTART:20220313T020000
TZOFFSETFROM:-0500
TZOFFSETTO:-0400
RDATE:20230312T020000
RDATE:20240310T020000
END:DAYLIGHT
END:VTIMEZONE
BEGIN:VEVENT
UID:97c9f9ed-93aa-4131-b255-3158e9813c38
DTSTAMP:20260425T182602Z
DESCRIPTION:Support\, informational and education source for parent and car
 egivers of children in the Autism Spectrum.  Quarterly guest speaker prese
 nt on issues of interest to the community.
DTSTART;TZID=America/New_York:20221103T110000
DTEND;TZID=America/New_York:20221103T123000
LOCATION:Capital Health Hopewell\, Two Capital Way\, Pennington\, NJ 08540\
 , 4th floor Conference Room
SUMMARY:Support Group for Parents and Caregivers of Children with Autism (P
 ennington)
END:VEVENT
END:VCALENDAR
