BEGIN:VCALENDAR
VERSION:2.0
PRODID:-//www.thearcfamilyinstitute.org//NONSGML kigkonsult.se iCalcreator 
 2.30.10//
CALSCALE:GREGORIAN
METHOD:PUBLISH
UID:6ab15bfc-1306-4618-9e96-07e328828586
X-WR-CALDESC:Do you ever feel stressed & overwhelmed as a parent? Can your 
 kids really push your buttons? Want other parents to talk to?\n\nCome to t
 he Parents Anonymous Support Group!!\nParents can freely share their quest
 ions\, concerns\, problems & solutions about parenting in a safe & support
 ive atmosphere\nMeetings are free & onsite child supervision is available.
  (please call a week before to schedule child supervision)
X-WR-RELCALID:5bb1599d79680a0a56b8088b353efabd
X-WR-TIMEZONE:America/New_York
BEGIN:VTIMEZONE
TZID:America/New_York
BEGIN:STANDARD
TZNAME:EST
DTSTART:20211107T020000
TZOFFSETFROM:-0400
TZOFFSETTO:-0500
RDATE:20221106T020000
RDATE:20231105T020000
END:STANDARD
BEGIN:DAYLIGHT
TZNAME:EDT
DTSTART:20220313T020000
TZOFFSETFROM:-0500
TZOFFSETTO:-0400
RDATE:20230312T020000
RDATE:20240310T020000
END:DAYLIGHT
END:VTIMEZONE
BEGIN:VEVENT
UID:b70af964-c2bc-4ad0-b51d-a66ef1a4c577
DTSTAMP:20260425T193249Z
DESCRIPTION:Do you ever feel stressed & overwhelmed as a parent? Can your k
 ids really push your buttons? Want other parents to talk to?\n\nCome to th
 e Parents Anonymous Support Group!!\nParents can freely share their questi
 ons\, concerns\, problems & solutions about parenting in a safe & supporti
 ve atmosphere\nMeetings are free & onsite child supervision is available. 
 (please call a week before to schedule child supervision)
DTSTART;TZID=America/New_York:20221019T100000
DTEND;TZID=America/New_York:20221019T120000
LOCATION:Mercer County Family Support Organization\, 3535 Quakerbridge Rd\,
  Suite 400\, Hamilton\, NJ 08619
SUMMARY:Parents Anonymous (Hamilton)
END:VEVENT
END:VCALENDAR
