BEGIN:VCALENDAR
VERSION:2.0
PRODID:-//www.thearcfamilyinstitute.org//NONSGML kigkonsult.se iCalcreator 
 2.30.10//
CALSCALE:GREGORIAN
METHOD:PUBLISH
UID:b26fa336-b47c-4c8f-9845-f05dd0bb1cc3
X-WR-CALDESC:Mom2Mom and The Arc of Bergen & Passaic Counties Inc. host a S
 upport Group for ALL Caregivers of Special Needs Children & Adults. Please
  join us... all are welcome! Please RSVP so we can contact you with schedu
 ling changes.
X-WR-RELCALID:652bc16c54de1f0fbd5077367979c3db
X-WR-TIMEZONE:America/New_York
BEGIN:VTIMEZONE
TZID:America/New_York
BEGIN:STANDARD
TZNAME:EST
DTSTART:20211107T020000
TZOFFSETFROM:-0400
TZOFFSETTO:-0500
RDATE:20221106T020000
RDATE:20231105T020000
END:STANDARD
BEGIN:DAYLIGHT
TZNAME:EDT
DTSTART:20220313T020000
TZOFFSETFROM:-0500
TZOFFSETTO:-0400
RDATE:20230312T020000
RDATE:20240310T020000
END:DAYLIGHT
END:VTIMEZONE
BEGIN:VEVENT
UID:6e913d03-e171-4f81-acbd-80097fc36a1a
DTSTAMP:20260425T210319Z
DESCRIPTION:Mom2Mom and The Arc of Bergen & Passaic Counties Inc. host a Su
 pport Group for ALL Caregivers of Special Needs Children & Adults. Please 
 join us... all are welcome! Please RSVP so we can contact you with schedul
 ing changes.
DTSTART;TZID=America/New_York:20220913T190000
DTEND;TZID=America/New_York:20220913T210000
LOCATION:The Arc's Community Choices Center\, 17-03 A Broadway\, Fairlawn
SUMMARY:The Arc of Bergen & Passaic/Mom 2 Mom
END:VEVENT
END:VCALENDAR
