BEGIN:VCALENDAR
VERSION:2.0
PRODID:-//www.thearcfamilyinstitute.org//NONSGML kigkonsult.se iCalcreator 
 2.30.10//
CALSCALE:GREGORIAN
METHOD:PUBLISH
UID:f92f341f-fe3b-4dac-acb6-a5dd099c990c
X-WR-CALDESC:Do you ever feel stressed & overwhelmed as a parent? Can your 
 kids really push your buttons? Want other parents to talk to?\n\nCome to t
 he Parents Anonymous Support Group!!\nParents can freely share their quest
 ions\, concerns\, problems & solutions about parenting in a safe & support
 ive atmosphere\nMeetings are free & onsite child supervision is available.
  (please call a week before to schedule child supervision)
X-WR-RELCALID:d6af7d6e34bdb8d910825ca5c3a3cc9e
X-WR-TIMEZONE:America/New_York
BEGIN:VTIMEZONE
TZID:America/New_York
BEGIN:STANDARD
TZNAME:EST
DTSTART:20211107T020000
TZOFFSETFROM:-0400
TZOFFSETTO:-0500
RDATE:20221106T020000
RDATE:20231105T020000
END:STANDARD
BEGIN:DAYLIGHT
TZNAME:EDT
DTSTART:20220313T020000
TZOFFSETFROM:-0500
TZOFFSETTO:-0400
RDATE:20230312T020000
END:DAYLIGHT
END:VTIMEZONE
BEGIN:VEVENT
UID:a23cd864-fdf7-4609-9d37-47edde32e48e
DTSTAMP:20260425T221047Z
DESCRIPTION:Do you ever feel stressed & overwhelmed as a parent? Can your k
 ids really push your buttons? Want other parents to talk to?\n\nCome to th
 e Parents Anonymous Support Group!!\nParents can freely share their questi
 ons\, concerns\, problems & solutions about parenting in a safe & supporti
 ve atmosphere\nMeetings are free & onsite child supervision is available. 
 (please call a week before to schedule child supervision)
DTSTART;TZID=America/New_York:20220811T180000
DTEND;TZID=America/New_York:20220811T200000
LOCATION:Mercer County Family Support Organization\, 3535 Quakerbridge Rd\,
  Suite 400\, Hamilton\, NJ 08619
SUMMARY:Parents Anonymous (Hamilton)
END:VEVENT
END:VCALENDAR
