BEGIN:VCALENDAR
VERSION:2.0
PRODID:-//www.thearcfamilyinstitute.org//NONSGML kigkonsult.se iCalcreator 
 2.30.10//
CALSCALE:GREGORIAN
METHOD:PUBLISH
UID:8e20a983-d064-4c8f-b94a-3068fedbb64b
X-WR-CALDESC:Mom2Mom and The Arc of Bergen & Passaic Counties Inc. host a S
 upport Group for ALL Caregivers of Special Needs Children & Adults. Please
  join us... all are welcome! Please RSVP so we can contact you with schedu
 ling changes.
X-WR-RELCALID:f93712e1e388207cd168ada0e07a7cfd
X-WR-TIMEZONE:America/New_York
BEGIN:VTIMEZONE
TZID:America/New_York
BEGIN:STANDARD
TZNAME:EST
DTSTART:20211107T020000
TZOFFSETFROM:-0400
TZOFFSETTO:-0500
RDATE:20221106T020000
RDATE:20231105T020000
END:STANDARD
BEGIN:DAYLIGHT
TZNAME:EDT
DTSTART:20220313T020000
TZOFFSETFROM:-0500
TZOFFSETTO:-0400
RDATE:20230312T020000
END:DAYLIGHT
END:VTIMEZONE
BEGIN:VEVENT
UID:11e7bdfb-a464-4ef4-8468-38f050e61ae2
DTSTAMP:20260425T221658Z
DESCRIPTION:Mom2Mom and The Arc of Bergen & Passaic Counties Inc. host a Su
 pport Group for ALL Caregivers of Special Needs Children & Adults. Please 
 join us... all are welcome! Please RSVP so we can contact you with schedul
 ing changes.
DTSTART;TZID=America/New_York:20220809T190000
DTEND;TZID=America/New_York:20220809T210000
LOCATION:The Arc's Community Choices Center\, 17-03 A Broadway\, Fairlawn
SUMMARY:The Arc of Bergen & Passaic/Mom 2 Mom
END:VEVENT
END:VCALENDAR
