BEGIN:VCALENDAR
VERSION:2.0
PRODID:-//www.thearcfamilyinstitute.org//NONSGML kigkonsult.se iCalcreator 
 2.30.10//
CALSCALE:GREGORIAN
METHOD:PUBLISH
UID:f5dba1ed-8d4d-4e0a-a354-98589443ba8f
X-WR-CALDESC:Free and Open to the Community. For Caregivers of Children/Adu
 lts with Special Needs.  This group will offer:  Support and Guidance\, An
  Opportunity To Network With Other Parents/Guardians\, Ways To Advocate Fo
 r Your Child\, Services and Resources Available In The Community.
X-WR-RELCALID:8b595a2e2a929f72cb8a4b7eff32ba47
X-WR-TIMEZONE:America/New_York
BEGIN:VTIMEZONE
TZID:America/New_York
BEGIN:STANDARD
TZNAME:EST
DTSTART:20211107T020000
TZOFFSETFROM:-0400
TZOFFSETTO:-0500
RDATE:20221106T020000
RDATE:20231105T020000
END:STANDARD
BEGIN:DAYLIGHT
TZNAME:EDT
DTSTART:20220313T020000
TZOFFSETFROM:-0500
TZOFFSETTO:-0400
RDATE:20230312T020000
END:DAYLIGHT
END:VTIMEZONE
BEGIN:VEVENT
UID:064233ba-93bb-45cf-9eaf-5b1d38735c9b
DTSTAMP:20260426T022245Z
DESCRIPTION:Free and Open to the Community. For Caregivers of Children/Adul
 ts with Special Needs.  This group will offer:  Support and Guidance\, An 
 Opportunity To Network With Other Parents/Guardians\, Ways To Advocate For
  Your Child\, Services and Resources Available In The Community.
DTSTART;TZID=America/New_York:20220525T193000
DTEND;TZID=America/New_York:20220525T203000
LOCATION:JCC of Central NJ\, 1391 Martine Avenue\, Scotch Plains
SUMMARY:Caregivers' Support Group (Scotch Plains)
END:VEVENT
END:VCALENDAR
