BEGIN:VCALENDAR
VERSION:2.0
PRODID:-//www.thearcfamilyinstitute.org//NONSGML kigkonsult.se iCalcreator 
 2.30.10//
CALSCALE:GREGORIAN
METHOD:PUBLISH
UID:11f6feb3-f22f-48a4-addd-0005d93ef3f4
X-WR-CALDESC:Mom2Mom and The Arc of Bergen & Passaic Counties Inc. host a S
 upport Group for ALL Caregivers of Special Needs Children & Adults. Please
  join us... all are welcome! Please RSVP so we can contact you with schedu
 ling changes.
X-WR-RELCALID:4de023ea216f88d38fcd5e9c0696ce85
X-WR-TIMEZONE:America/New_York
BEGIN:VTIMEZONE
TZID:America/New_York
BEGIN:STANDARD
TZNAME:EST
DTSTART:20211107T020000
TZOFFSETFROM:-0400
TZOFFSETTO:-0500
RDATE:20221106T020000
END:STANDARD
BEGIN:DAYLIGHT
TZNAME:EDT
DTSTART:20220313T020000
TZOFFSETFROM:-0500
TZOFFSETTO:-0400
RDATE:20230312T020000
END:DAYLIGHT
END:VTIMEZONE
BEGIN:VEVENT
UID:b1c843a1-1831-4c47-9d1e-7e447b3776b0
DTSTAMP:20260426T035159Z
DESCRIPTION:Mom2Mom and The Arc of Bergen & Passaic Counties Inc. host a Su
 pport Group for ALL Caregivers of Special Needs Children & Adults. Please 
 join us... all are welcome! Please RSVP so we can contact you with schedul
 ing changes.
DTSTART;TZID=America/New_York:20220412T190000
DTEND;TZID=America/New_York:20220412T210000
LOCATION:The Arc's Community Choices Center\, 17-03 A Broadway\, Fairlawn
SUMMARY:The Arc of Bergen & Passaic/Mom 2 Mom
END:VEVENT
END:VCALENDAR
