BEGIN:VCALENDAR
VERSION:2.0
PRODID:-//www.thearcfamilyinstitute.org//NONSGML kigkonsult.se iCalcreator 
 2.30.10//
CALSCALE:GREGORIAN
METHOD:PUBLISH
UID:b3d89ea6-e8a0-462f-83d7-f209e0586bc6
X-WR-CALDESC:Monthly support group for caregivers/parents of individuals wi
 th developmental and other disabilities who are 14 years and over.
X-WR-RELCALID:4076aa560c4e634ecd8e249eddf52d55
X-WR-TIMEZONE:America/New_York
BEGIN:VTIMEZONE
TZID:America/New_York
BEGIN:STANDARD
TZNAME:EST
DTSTART:20211107T020000
TZOFFSETFROM:-0400
TZOFFSETTO:-0500
RDATE:20221106T020000
END:STANDARD
BEGIN:DAYLIGHT
TZNAME:EDT
DTSTART:20220313T020000
TZOFFSETFROM:-0500
TZOFFSETTO:-0400
RDATE:20230312T020000
END:DAYLIGHT
END:VTIMEZONE
BEGIN:VEVENT
UID:4ffde8ef-beab-48e0-b5ac-6f9ca7551cc0
DTSTAMP:20260426T035345Z
DESCRIPTION:Monthly support group for caregivers/parents of individuals wit
 h developmental and other disabilities who are 14 years and over.
DTSTART;TZID=America/New_York:20220412T190000
DTEND;TZID=America/New_York:20220412T203000
LOCATION:Bergen County Special Services Education Facility 540 Farview Ave.
 \, Paramus
SUMMARY:Parent-to-Parent (Paramus)
END:VEVENT
END:VCALENDAR
