BEGIN:VCALENDAR
VERSION:2.0
PRODID:-//www.thearcfamilyinstitute.org//NONSGML kigkonsult.se iCalcreator 
 2.30.10//
CALSCALE:GREGORIAN
METHOD:PUBLISH
UID:c8596ccd-cf18-4c9d-9bfd-3796b58e91c7
X-WR-CALDESC:Join us to learn more about our inclusive\, four year\, certif
 icate-based\, college experience for students with intellectual and develo
 pmental disabilities. Learn about our coursework\, internship and career d
 evelopment opportunities\, campus involvement\, housing options\, and soci
 al activities. Hear from CCS students\, staff\, mentors and TCNJ Faculty.
 \n\nEvent Details\nAttendees: This information session is geared towards p
 rospective students and families.\n\nDate: Wednesday\, April 29th\, 2026\n
 \nTime: 11:30 – 1:30 info session\, 1:30 – 2:15 campus tour\n\nLocation: T
 he College of New Jersey\, 2000 Pennington Road\, Ewing\, NJ\, 08618\, Edu
 cation Building room 113\n\nRegistration will remain open until 14 days be
 fore the event.\n\nCCS will share a powerpoint from the event that will be
  posted on our College Tour page if you can not attend
X-WR-RELCALID:b6632a43cee73524a65294774ea6ff42
X-WR-TIMEZONE:America/New_York
BEGIN:VTIMEZONE
TZID:America/New_York
BEGIN:STANDARD
TZNAME:EST
DTSTART:20251102T020000
TZOFFSETFROM:-0400
TZOFFSETTO:-0500
RDATE:20261101T020000
END:STANDARD
BEGIN:DAYLIGHT
TZNAME:EDT
DTSTART:20260308T020000
TZOFFSETFROM:-0500
TZOFFSETTO:-0400
RDATE:20270314T020000
END:DAYLIGHT
END:VTIMEZONE
BEGIN:VEVENT
UID:4d32325b-9877-4dfa-b59c-9aedf50fae7b
DTSTAMP:20260420T150738Z
DESCRIPTION:Join us to learn more about our inclusive\, four year\, certifi
 cate-based\, college experience for students with intellectual and develop
 mental disabilities. Learn about our coursework\, internship and career de
 velopment opportunities\, campus involvement\, housing options\, and socia
 l activities. Hear from CCS students\, staff\, mentors and TCNJ Faculty.\n
 \nEvent Details\nAttendees: This information session is geared towards pro
 spective students and families.\n\nDate: Wednesday\, April 29th\, 2026\n\n
 Time: 11:30 – 1:30 info session\, 1:30 – 2:15 campus tour\n\nLocation: The
  College of New Jersey\, 2000 Pennington Road\, Ewing\, NJ\, 08618\, Educa
 tion Building room 113\n\nRegistration will remain open until 14 days befo
 re the event.\n\nCCS will share a powerpoint from the event that will be p
 osted on our College Tour page if you can not attend
DTSTART;TZID=America/New_York:20260429T113000
DTEND;TZID=America/New_York:20260429T141500
LOCATION:The College of New Jersey\, 2000 Pennington Road\, Ewing\, NJ 0861
 8 US
SUMMARY:Tour with Us (In Person) - Spring Information Session for CCS
END:VEVENT
END:VCALENDAR
