BEGIN:VCALENDAR
VERSION:2.0
PRODID:-//www.thearcfamilyinstitute.org//NONSGML kigkonsult.se iCalcreator 
 2.30.10//
CALSCALE:GREGORIAN
METHOD:PUBLISH
UID:ae86bc75-89df-41b4-9a10-97bb7feebb6f
X-WR-CALDESC:The right to file a due process petition is the ultimate safeg
 uard for protecting your child’s education. Although no parent wants a leg
 al battle\, sometimes parents have to choose between accepting an educatio
 nal program that isn’t appropriate and defending their child’s rights in c
 ourt. However\, many parents find the legal system daunting or are unaware
  of how to preserve rights such as “stay-put” and education in the least r
 estrictive environment. This workshop will provide practical advice on how
  and when to utilize the legal process\, key information to include in a p
 etition\, what to expect at each stage including typical timelines.
X-WR-RELCALID:8f1cd2c4fa661128e297f31d1cf97654
X-WR-TIMEZONE:America/New_York
BEGIN:VTIMEZONE
TZID:America/New_York
BEGIN:STANDARD
TZNAME:EST
DTSTART:20211107T020000
TZOFFSETFROM:-0400
TZOFFSETTO:-0500
RDATE:20221106T020000
END:STANDARD
BEGIN:DAYLIGHT
TZNAME:EDT
DTSTART:20220313T020000
TZOFFSETFROM:-0500
TZOFFSETTO:-0400
RDATE:20230312T020000
END:DAYLIGHT
END:VTIMEZONE
BEGIN:VEVENT
UID:b5142b20-a953-4b42-bb14-d62e958eba5d
DTSTAMP:20260424T022904Z
DESCRIPTION:The right to file a due process petition is the ultimate safegu
 ard for protecting your child’s education. Although no parent wants a lega
 l battle\, sometimes parents have to choose between accepting an education
 al program that isn’t appropriate and defending their child’s rights in co
 urt. However\, many parents find the legal system daunting or are unaware 
 of how to preserve rights such as “stay-put” and education in the least re
 strictive environment. This workshop will provide practical advice on how 
 and when to utilize the legal process\, key information to include in a pe
 tition\, what to expect at each stage including typical timelines.
DTSTART;TZID=America/New_York:20220428T180000
DTEND;TZID=America/New_York:20220428T190000
LOCATION:https://attendee.gotowebinar.com/register/362119079085305102
SUMMARY:What You Need to Know About Stay Put\, Mediation and Due Process
END:VEVENT
END:VCALENDAR
