BEGIN:VCALENDAR
VERSION:2.0
PRODID:-//www.thearcfamilyinstitute.org//NONSGML kigkonsult.se iCalcreator 
 2.30.10//
CALSCALE:GREGORIAN
METHOD:PUBLISH
UID:aee110ef-de06-457c-a4b9-02697ea116d6
X-WR-CALDESC:Join us while we chat with Ellen about PLAN/NJ. Planned Lifeti
 me Assistance of New Jersey is a nonprofit organization that helps the fam
 ilies of people with disabilities answer the question\,\n“Who will care fo
 r my loved one when I’m gone?”
X-WR-RELCALID:17b4c84ef58e5aa54dcddb3339a72615
X-WR-TIMEZONE:America/New_York
BEGIN:VTIMEZONE
TZID:America/New_York
BEGIN:STANDARD
TZNAME:EST
DTSTART:20211107T020000
TZOFFSETFROM:-0400
TZOFFSETTO:-0500
RDATE:20221106T020000
END:STANDARD
BEGIN:DAYLIGHT
TZNAME:EDT
DTSTART:20220313T020000
TZOFFSETFROM:-0500
TZOFFSETTO:-0400
RDATE:20230312T020000
END:DAYLIGHT
END:VTIMEZONE
BEGIN:VEVENT
UID:6603df79-3893-4f19-9477-dd73cdfa4484
DTSTAMP:20260424T023223Z
DESCRIPTION:Join us while we chat with Ellen about PLAN/NJ. Planned Lifetim
 e Assistance of New Jersey is a nonprofit organization that helps the fami
 lies of people with disabilities answer the question\,\n“Who will care for
  my loved one when I’m gone?”
DTSTART;TZID=America/New_York:20220421T180000
DTEND;TZID=America/New_York:20220421T190000
LOCATION:
SUMMARY:FI Campfire Chat
END:VEVENT
END:VCALENDAR
