BEGIN:VCALENDAR
VERSION:2.0
PRODID:-//www.thearcfamilyinstitute.org//NONSGML kigkonsult.se iCalcreator 
 2.30.10//
CALSCALE:GREGORIAN
METHOD:PUBLISH
UID:dcaf7eeb-9217-4906-b020-92b64f25e3b2
X-WR-CALDESC:Join us as Margaret Gilbride\, JD\, CT\, the Director of Trans
 ition\, Employment\, Aging & Disability at The Boggs Center on Development
 al Disabilities\, discusses how to support individuals with intellectual a
 nd developmental disabilities (I/DD) throughout the aging process. We will
  explore strategies to enhance accessibility in both home and community se
 ttings\, including day programs\, fitness centers\, and places of worship.
X-WR-RELCALID:60ab48735bc3a1adb62c3080e83f3be5
X-WR-TIMEZONE:America/New_York
BEGIN:VTIMEZONE
TZID:America/New_York
BEGIN:STANDARD
TZNAME:EST
DTSTART:20251102T020000
TZOFFSETFROM:-0400
TZOFFSETTO:-0500
RDATE:20261101T020000
END:STANDARD
BEGIN:DAYLIGHT
TZNAME:EDT
DTSTART:20250309T020000
TZOFFSETFROM:-0500
TZOFFSETTO:-0400
RDATE:20260308T020000
RDATE:20270314T020000
END:DAYLIGHT
END:VTIMEZONE
BEGIN:VEVENT
UID:7e9683a5-27dc-4ead-ac52-69a8733b32da
DTSTAMP:20260423T085735Z
DESCRIPTION:Join us as Margaret Gilbride\, JD\, CT\, the Director of Transi
 tion\, Employment\, Aging & Disability at The Boggs Center on Developmenta
 l Disabilities\, discusses how to support individuals with intellectual an
 d developmental disabilities (I/DD) throughout the aging process. We will 
 explore strategies to enhance accessibility in both home and community set
 tings\, including day programs\, fitness centers\, and places of worship.
DTSTART;TZID=America/New_York:20251210T120000
DTEND;TZID=America/New_York:20251210T130000
LOCATION:https://bit.ly/agerelatedchanges
SUMMARY:Understanding and Supporting the Age-Related Health Changes in Peop
 le with IDD as They Grow Older
END:VEVENT
END:VCALENDAR
