BEGIN:VCALENDAR
VERSION:2.0
PRODID:-//www.thearcfamilyinstitute.org//NONSGML kigkonsult.se iCalcreator 
 2.30.10//
CALSCALE:GREGORIAN
METHOD:PUBLISH
UID:356cbc9c-f4c5-45ae-b00c-e203934d5e96
X-WR-CALDESC:
X-WR-RELCALID:6a9d10e4c42dd762a873c165db39cc0f
X-WR-TIMEZONE:America/New_York
BEGIN:VTIMEZONE
TZID:America/New_York
BEGIN:STANDARD
TZNAME:EST
DTSTART:20251102T020000
TZOFFSETFROM:-0400
TZOFFSETTO:-0500
RDATE:20261101T020000
END:STANDARD
BEGIN:DAYLIGHT
TZNAME:EDT
DTSTART:20250309T020000
TZOFFSETFROM:-0500
TZOFFSETTO:-0400
RDATE:20260308T020000
RDATE:20270314T020000
END:DAYLIGHT
END:VTIMEZONE
BEGIN:VEVENT
UID:1bc83622-e718-4eb8-a0a8-c80dbe82e44e
DTSTAMP:20260423T104501Z
DESCRIPTION:
DTSTART;TZID=America/New_York:20251125T173000
DTEND;TZID=America/New_York:20251125T183000
LOCATION:https://bit.ly/virtualtourrvcc
SUMMARY:Virtual Tour With Us - The Achievement Center at Raritan Valley Com
 munity College
END:VEVENT
END:VCALENDAR
