BEGIN:VCALENDAR
VERSION:2.0
PRODID:-//www.thearcfamilyinstitute.org//NONSGML kigkonsult.se iCalcreator 
 2.30.10//
CALSCALE:GREGORIAN
METHOD:PUBLISH
UID:3969e23f-be32-499a-ba2e-ba33882919f8
X-WR-CALDESC:Join us for an virtual tour of the College Steps program! In N
 J\, there are programs at County College of Morris & at Kean University.
X-WR-RELCALID:a1359ad4ff391309007ed33436f6cab5
X-WR-TIMEZONE:America/New_York
BEGIN:VTIMEZONE
TZID:America/New_York
BEGIN:STANDARD
TZNAME:EST
DTSTART:20251102T020000
TZOFFSETFROM:-0400
TZOFFSETTO:-0500
RDATE:20261101T020000
END:STANDARD
BEGIN:DAYLIGHT
TZNAME:EDT
DTSTART:20250309T020000
TZOFFSETFROM:-0500
TZOFFSETTO:-0400
RDATE:20260308T020000
RDATE:20270314T020000
END:DAYLIGHT
END:VTIMEZONE
BEGIN:VEVENT
UID:4df08872-e7a2-499c-8ad6-05df6fa37f43
DTSTAMP:20260423T103114Z
DESCRIPTION:Join us for an virtual tour of the College Steps program! In NJ
 \, there are programs at County College of Morris & at Kean University.
DTSTART;TZID=America/New_York:20251118T100000
DTEND;TZID=America/New_York:20251118T110000
LOCATION:https://us06web.zoom.us/meeting/register/3zlCmG90THu_IFYJ_x0OBg
SUMMARY:Virtual Tour With Us - College Steps Program
END:VEVENT
END:VCALENDAR
