BEGIN:VCALENDAR
VERSION:2.0
PRODID:-//www.thearcfamilyinstitute.org//NONSGML kigkonsult.se iCalcreator 
 2.30.10//
CALSCALE:GREGORIAN
METHOD:PUBLISH
UID:e696ed62-60f3-46a8-a230-a5aea20eeaf4
X-WR-CALDESC:Woods Primary and Behavioral Health Center at Hamilton (Woods 
 at Hamilton) will be the first of its kind in the area to offer integrated
  primary care and behavioral health services to individuals with intellect
 ual and developmental disabilities\, autism\, neurodiversity and complex h
 ealthcare needs. With integrated care\, all of an individual’s providers w
 ork together to provide seamless communication and whole-person care. This
  improves health outcomes\, increases convenience\, and reduces costs. Ple
 ase join us on Monday\, November 17th at 12pm to learn more about this gre
 at program.
X-WR-RELCALID:1806d486e0a222163d0924ff89a977a1
X-WR-TIMEZONE:America/New_York
BEGIN:VTIMEZONE
TZID:America/New_York
BEGIN:STANDARD
TZNAME:EST
DTSTART:20251102T020000
TZOFFSETFROM:-0400
TZOFFSETTO:-0500
RDATE:20261101T020000
END:STANDARD
BEGIN:DAYLIGHT
TZNAME:EDT
DTSTART:20250309T020000
TZOFFSETFROM:-0500
TZOFFSETTO:-0400
RDATE:20260308T020000
RDATE:20270314T020000
END:DAYLIGHT
END:VTIMEZONE
BEGIN:VEVENT
UID:b4b01bed-dfb9-43bb-ba37-e58f74154924
DTSTAMP:20260423T110440Z
DESCRIPTION:Woods Primary and Behavioral Health Center at Hamilton (Woods a
 t Hamilton) will be the first of its kind in the area to offer integrated 
 primary care and behavioral health services to individuals with intellectu
 al and developmental disabilities\, autism\, neurodiversity and complex he
 althcare needs. With integrated care\, all of an individual’s providers wo
 rk together to provide seamless communication and whole-person care. This 
 improves health outcomes\, increases convenience\, and reduces costs. Plea
 se join us on Monday\, November 17th at 12pm to learn more about this grea
 t program.
DTSTART;TZID=America/New_York:20251117T120000
DTEND;TZID=America/New_York:20251117T130000
LOCATION:https://attendee.gotowebinar.com/register/4375642213540936799
SUMMARY:Information Session: Woods Primary and Behavioral Health Center at 
 Hamilton
END:VEVENT
END:VCALENDAR
