BEGIN:VCALENDAR
VERSION:2.0
PRODID:-//www.thearcfamilyinstitute.org//NONSGML kigkonsult.se iCalcreator 
 2.30.10//
CALSCALE:GREGORIAN
METHOD:PUBLISH
UID:cdddc295-520b-4f33-bbf7-6869b4119cbd
X-WR-CALDESC:One of the most common concerns of parents is\, 'where will my
  child live when I'm gone?'  Increasingly\, families are looking beyond tr
 aditional group homes and supervised apartments for innovative housing sup
 ports for their loved ones with developmental disabilities.  Attendees wil
 l learn about options for funding residential services\, how to safeguard 
 services for a son or daughter and how to avoid common pitfalls in working
  with state agencies to obtain effective out-of-home residential services.
X-WR-RELCALID:6c813e2d7cde76d5154c3df06ac8d8d3
X-WR-TIMEZONE:America/New_York
BEGIN:VTIMEZONE
TZID:America/New_York
BEGIN:STANDARD
TZNAME:EST
DTSTART:20241103T020000
TZOFFSETFROM:-0400
TZOFFSETTO:-0500
RDATE:20251102T020000
RDATE:20261101T020000
END:STANDARD
BEGIN:DAYLIGHT
TZNAME:EDT
DTSTART:20250309T020000
TZOFFSETFROM:-0500
TZOFFSETTO:-0400
RDATE:20260308T020000
RDATE:20270314T020000
END:DAYLIGHT
END:VTIMEZONE
BEGIN:VEVENT
UID:10dd162b-7df3-4762-9904-719aa2d411d1
DTSTAMP:20260423T120428Z
DESCRIPTION:One of the most common concerns of parents is\, 'where will my 
 child live when I'm gone?'  Increasingly\, families are looking beyond tra
 ditional group homes and supervised apartments for innovative housing supp
 orts for their loved ones with developmental disabilities.  Attendees will
  learn about options for funding residential services\, how to safeguard s
 ervices for a son or daughter and how to avoid common pitfalls in working 
 with state agencies to obtain effective out-of-home residential services.
DTSTART;TZID=America/New_York:20251030T183000
DTEND;TZID=America/New_York:20251030T200000
LOCATION:https://register.gotowebinar.com/register/5440155286076131413
SUMMARY:Beyond Group Homes: Creative Options & Residential Supports - Learn
  options for securing and funding residential services
END:VEVENT
END:VCALENDAR
