BEGIN:VCALENDAR
VERSION:2.0
PRODID:-//www.thearcfamilyinstitute.org//NONSGML kigkonsult.se iCalcreator 
 2.30.10//
CALSCALE:GREGORIAN
METHOD:PUBLISH
UID:f728a610-bcb5-450e-bab8-6b7ab4161e8f
X-WR-CALDESC:Join Us for an Informative Session on the NJCAT and DDD Servic
 es\n\nWe are pleased to welcome Trisha Bailey from Caregivers of New Jerse
 y for an in-depth presentation on the New Jersey Comprehensive Assessment 
 Tool (NJCAT). Trisha will guide us through how to interpret NJCAT results\
 , understand their impact on the Division of Developmental Disabilities (D
 DD) budget\, and provide an overview of the various services available thr
 ough the DDD system.\n\nThis session is perfect for families\, caregivers\
 , and professionals looking to better understand the DDD system and maximi
 ze available resources.
X-WR-RELCALID:feac9611bb9e76ded302711bc9e561d2
X-WR-TIMEZONE:America/New_York
BEGIN:VTIMEZONE
TZID:America/New_York
BEGIN:STANDARD
TZNAME:EST
DTSTART:20241103T020000
TZOFFSETFROM:-0400
TZOFFSETTO:-0500
RDATE:20251102T020000
RDATE:20261101T020000
END:STANDARD
BEGIN:DAYLIGHT
TZNAME:EDT
DTSTART:20250309T020000
TZOFFSETFROM:-0500
TZOFFSETTO:-0400
RDATE:20260308T020000
RDATE:20270314T020000
END:DAYLIGHT
END:VTIMEZONE
BEGIN:VEVENT
UID:0e2ef8d2-bfc0-4e4a-9bbd-990aee134a7b
DTSTAMP:20260423T121200Z
DESCRIPTION:Join Us for an Informative Session on the NJCAT and DDD Service
 s\n\nWe are pleased to welcome Trisha Bailey from Caregivers of New Jersey
  for an in-depth presentation on the New Jersey Comprehensive Assessment T
 ool (NJCAT). Trisha will guide us through how to interpret NJCAT results\,
  understand their impact on the Division of Developmental Disabilities (DD
 D) budget\, and provide an overview of the various services available thro
 ugh the DDD system.\n\nThis session is perfect for families\, caregivers\,
  and professionals looking to better understand the DDD system and maximiz
 e available resources.
DTSTART;TZID=America/New_York:20251007T180000
DTEND;TZID=America/New_York:20251007T190000
LOCATION:https://attendee.gotowebinar.com/register/3931744078629190231
SUMMARY:Helping Your Loved One Achieve Their Life Goals: A Guide to Your DD
 D Budget and Services
END:VEVENT
END:VCALENDAR
