BEGIN:VCALENDAR
VERSION:2.0
PRODID:-//www.thearcfamilyinstitute.org//NONSGML kigkonsult.se iCalcreator 
 2.30.10//
CALSCALE:GREGORIAN
METHOD:PUBLISH
UID:5a078a29-398d-4c65-8d7a-80e10820f021
X-WR-CALDESC:It is essential for everyone\, including individuals with inte
 llectual and developmental disabilities\, to understand and practice commu
 nity safety skills. Adhering to common safety rules and practices is vital
  for preventing unnecessary harm. This webinar will cover potential unsafe
  situations and provide strategies for community safety\, injury preventio
 n\, and obtaining help when needed. \n\nAttendees will learn about various
  topics\, including pedestrian and passenger safety\, water safety\, as we
 ll as prevention and response strategies for individuals who may have elop
 ed or wandered. Additionally\, the webinar will address internet safety.\n
 \nThis webinar is hosted by The Arc of New Jersey Family Institute and pre
 sented by Adrienne Robertiello\, a Special Health Care Educator at Childre
 n's Specialized Hospital.
X-WR-RELCALID:60411ff060ae738e9de9c8a87234f1d7
X-WR-TIMEZONE:America/New_York
BEGIN:VTIMEZONE
TZID:America/New_York
BEGIN:STANDARD
TZNAME:EST
DTSTART:20241103T020000
TZOFFSETFROM:-0400
TZOFFSETTO:-0500
RDATE:20251102T020000
RDATE:20261101T020000
END:STANDARD
BEGIN:DAYLIGHT
TZNAME:EDT
DTSTART:20250309T020000
TZOFFSETFROM:-0500
TZOFFSETTO:-0400
RDATE:20260308T020000
RDATE:20270314T020000
END:DAYLIGHT
END:VTIMEZONE
BEGIN:VEVENT
UID:20198945-1497-4345-91a1-a3399b98476f
DTSTAMP:20260423T135749Z
DESCRIPTION:It is essential for everyone\, including individuals with intel
 lectual and developmental disabilities\, to understand and practice commun
 ity safety skills. Adhering to common safety rules and practices is vital 
 for preventing unnecessary harm. This webinar will cover potential unsafe 
 situations and provide strategies for community safety\, injury prevention
 \, and obtaining help when needed. \n\nAttendees will learn about various 
 topics\, including pedestrian and passenger safety\, water safety\, as wel
 l as prevention and response strategies for individuals who may have elope
 d or wandered. Additionally\, the webinar will address internet safety.\n
 \nThis webinar is hosted by The Arc of New Jersey Family Institute and pre
 sented by Adrienne Robertiello\, a Special Health Care Educator at Childre
 n's Specialized Hospital.
DTSTART;TZID=America/New_York:20250930T120000
DTEND;TZID=America/New_York:20250930T130000
LOCATION:https://bit.ly/communitysafetyidd
SUMMARY:Community Safety and Prevention of Elopement for Children with Inte
 llectual and Developmental Disabilities
END:VEVENT
END:VCALENDAR
