BEGIN:VCALENDAR
VERSION:2.0
PRODID:-//www.thearcfamilyinstitute.org//NONSGML kigkonsult.se iCalcreator 
 2.30.10//
CALSCALE:GREGORIAN
METHOD:PUBLISH
UID:0d540a4f-0f0e-40cc-b070-d4c63a4578e7
X-WR-CALDESC:Are you a parent contemplating retirement? Will you soon be co
 llecting your Social Security retirement benefits? Join Connor Griffin\, D
 irector of Health Care Advocacy\, for a webinar that will discuss how pare
 nts retiring and collecting their Social Security benefits impacts their a
 dult child with intellectual and developmental disabilities (IDD)!\n\nThis
  webinar will cover: \n- How your adult child's Social Security benefits w
 ill change\n- What is a Section 1634 DAC?\n- Keeping your child enrolled o
 n Medicaid and eligible for DDD services\n- How your adult child becomes e
 ligible for Medicare
X-WR-RELCALID:e409b48ca75b413bbd0bedcb39c3cbf4
X-WR-TIMEZONE:America/New_York
BEGIN:VTIMEZONE
TZID:America/New_York
BEGIN:STANDARD
TZNAME:EST
DTSTART:20241103T020000
TZOFFSETFROM:-0400
TZOFFSETTO:-0500
RDATE:20251102T020000
RDATE:20261101T020000
END:STANDARD
BEGIN:DAYLIGHT
TZNAME:EDT
DTSTART:20250309T020000
TZOFFSETFROM:-0500
TZOFFSETTO:-0400
RDATE:20260308T020000
RDATE:20270314T020000
END:DAYLIGHT
END:VTIMEZONE
BEGIN:VEVENT
UID:899afb99-1ced-408a-b2ec-c0007fc0ac6b
DTSTAMP:20260423T135607Z
DESCRIPTION:Are you a parent contemplating retirement? Will you soon be col
 lecting your Social Security retirement benefits? Join Connor Griffin\, Di
 rector of Health Care Advocacy\, for a webinar that will discuss how paren
 ts retiring and collecting their Social Security benefits impacts their ad
 ult child with intellectual and developmental disabilities (IDD)!\n\nThis 
 webinar will cover: \n- How your adult child's Social Security benefits wi
 ll change\n- What is a Section 1634 DAC?\n- Keeping your child enrolled on
  Medicaid and eligible for DDD services\n- How your adult child becomes el
 igible for Medicare
DTSTART;TZID=America/New_York:20250925T130000
DTEND;TZID=America/New_York:20250925T140000
LOCATION:https://us06web.zoom.us/webinar/register/WN_nh4vAixLQoKNnQMjEb2kJg
 #/registration
SUMMARY:How Parents' Social Security Benefits Impact Their Adult Child with
  IDD
END:VEVENT
END:VCALENDAR
