BEGIN:VCALENDAR
VERSION:2.0
PRODID:-//www.thearcfamilyinstitute.org//NONSGML kigkonsult.se iCalcreator 
 2.30.10//
CALSCALE:GREGORIAN
METHOD:PUBLISH
UID:f7e83b77-76be-4538-bcb1-b805e41fd68c
X-WR-CALDESC:Join us for a webinar titled My Student Just Turned 18. What D
 o I Need to Do!?!?
X-WR-RELCALID:eb410d2622458cfb70c39a28a33b4aa0
X-WR-TIMEZONE:America/New_York
BEGIN:VTIMEZONE
TZID:America/New_York
BEGIN:STANDARD
TZNAME:EST
DTSTART:20241103T020000
TZOFFSETFROM:-0400
TZOFFSETTO:-0500
RDATE:20251102T020000
RDATE:20261101T020000
END:STANDARD
BEGIN:DAYLIGHT
TZNAME:EDT
DTSTART:20250309T020000
TZOFFSETFROM:-0500
TZOFFSETTO:-0400
RDATE:20260308T020000
RDATE:20270314T020000
END:DAYLIGHT
END:VTIMEZONE
BEGIN:VEVENT
UID:dc1ed1f7-70a0-47a5-8aa3-6c2561de36b5
DTSTAMP:20260423T140041Z
DESCRIPTION:Join us for a webinar titled My Student Just Turned 18. What Do
  I Need to Do!?!?
DTSTART;TZID=America/New_York:20250916T190000
DTEND;TZID=America/New_York:20250916T203000
LOCATION:https://us06web.zoom.us/meeting/register/muPMBtP4QIKDnNzDmXdW4Q
SUMMARY:My Student Just Turned 18. What Do I Need to Do!?!?
END:VEVENT
END:VCALENDAR
