BEGIN:VCALENDAR
VERSION:2.0
PRODID:-//www.thearcfamilyinstitute.org//NONSGML kigkonsult.se iCalcreator 
 2.30.10//
CALSCALE:GREGORIAN
METHOD:PUBLISH
UID:b3039852-fc90-4e71-95a5-5daa2bc3bea0
X-WR-CALDESC:The Division of Developmental Disabilities (DDD) will provide 
 an overview of the Community Care Program and help us understand the prior
 ity waiting list more effectively.
X-WR-RELCALID:46beb7445d49d453a65211567eb24382
X-WR-TIMEZONE:America/New_York
BEGIN:VTIMEZONE
TZID:America/New_York
BEGIN:STANDARD
TZNAME:EST
DTSTART:20241103T020000
TZOFFSETFROM:-0400
TZOFFSETTO:-0500
RDATE:20251102T020000
RDATE:20261101T020000
END:STANDARD
BEGIN:DAYLIGHT
TZNAME:EDT
DTSTART:20250309T020000
TZOFFSETFROM:-0500
TZOFFSETTO:-0400
RDATE:20260308T020000
END:DAYLIGHT
END:VTIMEZONE
BEGIN:VEVENT
UID:e8a51388-7559-4f17-a614-26a1b72bbd3e
DTSTAMP:20260423T182036Z
DESCRIPTION:The Division of Developmental Disabilities (DDD) will provide a
 n overview of the Community Care Program and help us understand the priori
 ty waiting list more effectively.
DTSTART;TZID=America/New_York:20250617T130000
DTEND;TZID=America/New_York:20250617T140000
LOCATION:https://attendee.gotowebinar.com/register/1675217463168434016
SUMMARY:Understanding The Community Care Program Waiting List
END:VEVENT
END:VCALENDAR
