BEGIN:VCALENDAR
VERSION:2.0
PRODID:-//www.thearcfamilyinstitute.org//NONSGML kigkonsult.se iCalcreator 
 2.30.10//
CALSCALE:GREGORIAN
METHOD:PUBLISH
UID:be63ca19-2537-4ec4-a967-ba40d51ed6e0
X-WR-CALDESC:REED Autism Services\, a leader in programs and services for i
 ndividuals with autism across their lifespan\, has announced the launch of
  PATH\, a two-year post-secondary certificate program in partnership with 
 Felician University. Approved by the New Jersey Department of Education\, 
 PATH\, which stands for Post-Secondary Achievement Through Hands-On Learni
 ng\, is designed to impart crucial career readiness and life skills for st
 udents ages 18-21.
X-WR-RELCALID:81276e537b16bdc722bb9aff8372ba4e
X-WR-TIMEZONE:America/New_York
BEGIN:VTIMEZONE
TZID:America/New_York
BEGIN:STANDARD
TZNAME:EST
DTSTART:20241103T020000
TZOFFSETFROM:-0400
TZOFFSETTO:-0500
RDATE:20251102T020000
RDATE:20261101T020000
END:STANDARD
BEGIN:DAYLIGHT
TZNAME:EDT
DTSTART:20250309T020000
TZOFFSETFROM:-0500
TZOFFSETTO:-0400
RDATE:20260308T020000
END:DAYLIGHT
END:VTIMEZONE
BEGIN:VEVENT
UID:1ad1a896-7e04-499d-8d48-4754889c72af
DTSTAMP:20260423T182749Z
DESCRIPTION:REED Autism Services\, a leader in programs and services for in
 dividuals with autism across their lifespan\, has announced the launch of 
 PATH\, a two-year post-secondary certificate program in partnership with F
 elician University. Approved by the New Jersey Department of Education\, P
 ATH\, which stands for Post-Secondary Achievement Through Hands-On Learnin
 g\, is designed to impart crucial career readiness and life skills for stu
 dents ages 18-21.
DTSTART;TZID=America/New_York:20250613T110000
DTEND;TZID=America/New_York:20250613T130000
LOCATION:Felician University/ Rutherford Campus\, 223 Montross Ave\, Ruther
 ford\, NJ 07070 US
SUMMARY:In-Person Tour- REED Autism Services
END:VEVENT
END:VCALENDAR
