BEGIN:VCALENDAR
VERSION:2.0
PRODID:-//www.thearcfamilyinstitute.org//NONSGML kigkonsult.se iCalcreator 
 2.30.10//
CALSCALE:GREGORIAN
METHOD:PUBLISH
UID:b592710c-0a01-474a-b473-0cdcde67d751
X-WR-CALDESC:This presentation provides families with practical guidance an
 d critical insights for\nplanning the long-term care and well-being of a l
 oved one with special needs.\nDeveloped in partnership by the Knights of C
 olumbus\, the session focuses on equipping\nfamilies with the tools and kn
 owledge to make informed decisions that protect both\nfinancial stability 
 and personal dignity.\nKey topics include understanding government benefit
  programs such as Supplemental\nSecurity Income (SSI)\, Medicaid\, and ABL
 E accounts\; the importance of establishing\nlegal structures such as will
 s\, guardianship arrangements\, and Special Needs Trusts\n(SNTs)\; and ide
 ntifying common planning pitfalls that may jeopardize eligibility for vita
 l\nresources.\nThe presentation also addresses how insurance strategies ca
 n be used to fund a care\nplan without compromising access to government a
 ssistance. Families can gain peace\nof mind knowing their loved one will b
 e supported with security\, clarity\, and\ncontinuity—both now and in the 
 years ahead.
X-WR-RELCALID:62d12494f2b9ebd50769481754ca8777
X-WR-TIMEZONE:America/New_York
BEGIN:VTIMEZONE
TZID:America/New_York
BEGIN:STANDARD
TZNAME:EST
DTSTART:20241103T020000
TZOFFSETFROM:-0400
TZOFFSETTO:-0500
RDATE:20251102T020000
RDATE:20261101T020000
END:STANDARD
BEGIN:DAYLIGHT
TZNAME:EDT
DTSTART:20250309T020000
TZOFFSETFROM:-0500
TZOFFSETTO:-0400
RDATE:20260308T020000
END:DAYLIGHT
END:VTIMEZONE
BEGIN:VEVENT
UID:70f71a06-3da7-42a4-80a6-db4700fca4ca
DTSTAMP:20260423T200841Z
DESCRIPTION:This presentation provides families with practical guidance and
  critical insights for\nplanning the long-term care and well-being of a lo
 ved one with special needs.\nDeveloped in partnership by the Knights of Co
 lumbus\, the session focuses on equipping\nfamilies with the tools and kno
 wledge to make informed decisions that protect both\nfinancial stability a
 nd personal dignity.\nKey topics include understanding government benefit 
 programs such as Supplemental\nSecurity Income (SSI)\, Medicaid\, and ABLE
  accounts\; the importance of establishing\nlegal structures such as wills
 \, guardianship arrangements\, and Special Needs Trusts\n(SNTs)\; and iden
 tifying common planning pitfalls that may jeopardize eligibility for vital
 \nresources.\nThe presentation also addresses how insurance strategies can
  be used to fund a care\nplan without compromising access to government as
 sistance. Families can gain peace\nof mind knowing their loved one will be
  supported with security\, clarity\, and\ncontinuity—both now and in the y
 ears ahead.
DTSTART;TZID=America/New_York:20250522T180000
DTEND;TZID=America/New_York:20250522T190000
LOCATION:https://attendee.gotowebinar.com/register/9054388541945490010
SUMMARY:Family and Future: Planning for Loved Ones with Special Needs
END:VEVENT
END:VCALENDAR
