BEGIN:VCALENDAR
VERSION:2.0
PRODID:-//www.thearcfamilyinstitute.org//NONSGML kigkonsult.se iCalcreator 
 2.30.10//
CALSCALE:GREGORIAN
METHOD:PUBLISH
UID:8655ef9c-e382-48cf-bf7d-66770ded51fa
X-WR-CALDESC:
X-WR-RELCALID:50ca616ace2223829ff07346460e97cb
X-WR-TIMEZONE:America/New_York
BEGIN:VTIMEZONE
TZID:America/New_York
BEGIN:STANDARD
TZNAME:EST
DTSTART:20241103T020000
TZOFFSETFROM:-0400
TZOFFSETTO:-0500
RDATE:20251102T020000
END:STANDARD
BEGIN:DAYLIGHT
TZNAME:EDT
DTSTART:20250309T020000
TZOFFSETFROM:-0500
TZOFFSETTO:-0400
RDATE:20260308T020000
END:DAYLIGHT
END:VTIMEZONE
BEGIN:VEVENT
UID:f1354e33-cea8-4cf3-8445-a9054e32c7da
DTSTAMP:20260423T213748Z
DESCRIPTION:
DTSTART;TZID=America/New_York:20250416T130000
DTEND;TZID=America/New_York:20250416T140000
LOCATION:https://us06web.zoom.us/meeting/register/tZwvcu6urDooHdwNiUfDhXkSd
 41JSdFtgLsc#/registration
SUMMARY:An Overview of Self-Direction Services\, Personal Care Assistant (P
 CA) and The Personal Preference Program (PPP)
END:VEVENT
END:VCALENDAR
