BEGIN:VCALENDAR
VERSION:2.0
PRODID:-//www.thearcfamilyinstitute.org//NONSGML kigkonsult.se iCalcreator 
 2.30.10//
CALSCALE:GREGORIAN
METHOD:PUBLISH
UID:df224f4a-b9fc-43dd-9d12-a079a6bb2e83
X-WR-CALDESC:
X-WR-RELCALID:f7e5701f26b27eaec824be6d2bf96a17
X-WR-TIMEZONE:America/New_York
BEGIN:VTIMEZONE
TZID:America/New_York
BEGIN:STANDARD
TZNAME:EST
DTSTART:20241103T020000
TZOFFSETFROM:-0400
TZOFFSETTO:-0500
RDATE:20251102T020000
END:STANDARD
BEGIN:DAYLIGHT
TZNAME:EDT
DTSTART:20250309T020000
TZOFFSETFROM:-0500
TZOFFSETTO:-0400
RDATE:20260308T020000
END:DAYLIGHT
END:VTIMEZONE
BEGIN:VEVENT
UID:0794c0bf-2926-464b-8d03-59e035749f00
DTSTAMP:20260423T215441Z
DESCRIPTION:
DTSTART;TZID=America/New_York:20250409T180000
DTEND;TZID=America/New_York:20250409T193000
LOCATION:https://us06web.zoom.us/meeting/register/UpnYoccKQhykARJjjuLeIA
SUMMARY:Virtual Tour With Us! - The Achievement Center at Raritan Valley Co
 mmunity College
END:VEVENT
END:VCALENDAR
