BEGIN:VCALENDAR
VERSION:2.0
PRODID:-//www.thearcfamilyinstitute.org//NONSGML kigkonsult.se iCalcreator 
 2.30.10//
CALSCALE:GREGORIAN
METHOD:PUBLISH
UID:df2355a7-2af5-44ae-a325-5dfab781f068
X-WR-CALDESC:
X-WR-RELCALID:c4b3ec99384de061f0b450b1bc6efcfe
X-WR-TIMEZONE:America/New_York
BEGIN:VTIMEZONE
TZID:America/New_York
BEGIN:STANDARD
TZNAME:EST
DTSTART:20241103T020000
TZOFFSETFROM:-0400
TZOFFSETTO:-0500
RDATE:20251102T020000
END:STANDARD
BEGIN:DAYLIGHT
TZNAME:EDT
DTSTART:20250309T020000
TZOFFSETFROM:-0500
TZOFFSETTO:-0400
RDATE:20260308T020000
END:DAYLIGHT
END:VTIMEZONE
BEGIN:VEVENT
UID:adf8c19e-68af-4969-9356-7ec0adda65c3
DTSTAMP:20260423T231414Z
DESCRIPTION:
DTSTART;TZID=America/New_York:20250319T130000
DTEND;TZID=America/New_York:20250319T140000
LOCATION:https://us06web.zoom.us/meeting/register/tZUkce2ppjMiG9HQ8JZ503SD9
 aVSL8GLSd6l#/registration
SUMMARY:Understanding Support Coordination
END:VEVENT
END:VCALENDAR
