BEGIN:VCALENDAR
VERSION:2.0
PRODID:-//www.thearcfamilyinstitute.org//NONSGML kigkonsult.se iCalcreator 
 2.30.10//
CALSCALE:GREGORIAN
METHOD:PUBLISH
UID:025c1d40-b110-4489-9acd-7c8349a2377d
X-WR-CALDESC:College can be an excellent option for students with intellect
 ual and developmental disabilities (IDD). Many programs provide various op
 portunities to learn academic\, career\, and independent living skills. Jo
 in us as we discuss various programs available in New Jersey and explore p
 otential funding options for college. We will also cover how to write Indi
 vidualized Education Program (IEP) goals for post-secondary options when w
 orking with the Child Study Team.
X-WR-RELCALID:029cfaf0c157936b4dd3942c7e6700ac
X-WR-TIMEZONE:America/New_York
BEGIN:VTIMEZONE
TZID:America/New_York
BEGIN:STANDARD
TZNAME:EST
DTSTART:20241103T020000
TZOFFSETFROM:-0400
TZOFFSETTO:-0500
RDATE:20251102T020000
END:STANDARD
BEGIN:DAYLIGHT
TZNAME:EDT
DTSTART:20250309T020000
TZOFFSETFROM:-0500
TZOFFSETTO:-0400
RDATE:20260308T020000
END:DAYLIGHT
END:VTIMEZONE
BEGIN:VEVENT
UID:d11d6fcc-87b2-4b18-ba25-4fd3c38d4338
DTSTAMP:20260423T231413Z
DESCRIPTION:College can be an excellent option for students with intellectu
 al and developmental disabilities (IDD). Many programs provide various opp
 ortunities to learn academic\, career\, and independent living skills. Joi
 n us as we discuss various programs available in New Jersey and explore po
 tential funding options for college. We will also cover how to write Indiv
 idualized Education Program (IEP) goals for post-secondary options when wo
 rking with the Child Study Team.
DTSTART;TZID=America/New_York:20250318T060000
DTEND;TZID=America/New_York:20250318T060001
LOCATION:https://attendee.gotowebinar.com/register/4303623096817355861
SUMMARY:Getting Ready for College
END:VEVENT
END:VCALENDAR
