BEGIN:VCALENDAR
VERSION:2.0
PRODID:-//www.thearcfamilyinstitute.org//NONSGML kigkonsult.se iCalcreator 
 2.30.10//
CALSCALE:GREGORIAN
METHOD:PUBLISH
UID:6f133952-3dfe-4cc9-a792-c778055c77d7
X-WR-CALDESC:
X-WR-RELCALID:454a44ce0fb232289c5870e18d4be4a5
X-WR-TIMEZONE:America/New_York
BEGIN:VTIMEZONE
TZID:America/New_York
BEGIN:STANDARD
TZNAME:EST
DTSTART:20241103T020000
TZOFFSETFROM:-0400
TZOFFSETTO:-0500
RDATE:20251102T020000
END:STANDARD
BEGIN:DAYLIGHT
TZNAME:EDT
DTSTART:20240310T020000
TZOFFSETFROM:-0500
TZOFFSETTO:-0400
RDATE:20250309T020000
RDATE:20260308T020000
END:DAYLIGHT
END:VTIMEZONE
BEGIN:VEVENT
UID:9850918a-ca50-4477-b01b-779f25cb57bf
DTSTAMP:20260423T231940Z
DESCRIPTION:
DTSTART;TZID=America/New_York:20250305T130000
DTEND;TZID=America/New_York:20250305T140000
LOCATION:https://tinyurl.com/ymxfy5zm
SUMMARY:An Overview of the DDD Process and Tips When Completing the DDD App
 lication
END:VEVENT
END:VCALENDAR
