BEGIN:VCALENDAR
VERSION:2.0
PRODID:-//www.thearcfamilyinstitute.org//NONSGML kigkonsult.se iCalcreator 
 2.30.10//
CALSCALE:GREGORIAN
METHOD:PUBLISH
UID:cc272010-3940-45a7-9366-2efd98fd91ed
X-WR-CALDESC:Understanding Fetal Alcohol Syndrome (FAS) and how to support 
 children and young adults with Fetal Alcohol Spectrum Disorders (FASD) at 
 home and in school. Additionally\, understanding the therapies that may as
 sist individuals living with the disorder\, as well as families trying to 
 help.\n
X-WR-RELCALID:9ce8f3bffffdd0de609244d1dc6d5437
X-WR-TIMEZONE:America/New_York
BEGIN:VTIMEZONE
TZID:America/New_York
BEGIN:STANDARD
TZNAME:EST
DTSTART:20241103T020000
TZOFFSETFROM:-0400
TZOFFSETTO:-0500
RDATE:20251102T020000
END:STANDARD
BEGIN:DAYLIGHT
TZNAME:EDT
DTSTART:20240310T020000
TZOFFSETFROM:-0500
TZOFFSETTO:-0400
RDATE:20250309T020000
RDATE:20260308T020000
END:DAYLIGHT
END:VTIMEZONE
BEGIN:VEVENT
UID:51eca1f3-2b44-449b-b5c1-aac85ed91e2e
DTSTAMP:20260423T232447Z
DESCRIPTION:Understanding Fetal Alcohol Syndrome (FAS) and how to support c
 hildren and young adults with Fetal Alcohol Spectrum Disorders (FASD) at h
 ome and in school. Additionally\, understanding the therapies that may ass
 ist individuals living with the disorder\, as well as families trying to h
 elp.\n
DTSTART;TZID=America/New_York:20250304T180000
DTEND;TZID=America/New_York:20250304T190000
LOCATION:https://attendee.gotowebinar.com/register/5715191517077460319
SUMMARY:Understanding Fetal Alcohol Spectrum Disorders (FASD) and how to su
 pport children and adults with FASD
END:VEVENT
END:VCALENDAR
