BEGIN:VCALENDAR
VERSION:2.0
PRODID:-//www.thearcfamilyinstitute.org//NONSGML kigkonsult.se iCalcreator 
 2.30.10//
CALSCALE:GREGORIAN
METHOD:PUBLISH
UID:1ef398f1-04cb-457f-9638-0e74007f3e5a
X-WR-CALDESC:This webinar will review the latest housing guide released by 
 the Supportive Housing Association (SHA). Kate Kelly\, Executive Director 
 of the Supportive Housing Association of NJ\, will discuss partnerships\, 
 planning\, and organizations behind these effective housing developments s
 hared in the guide\, that provides affordable\, accessible homes with supp
 ort services tailored to the needs of a variety of populations.
X-WR-RELCALID:679f11810ecf7b954dadebdd78fd2171
X-WR-TIMEZONE:America/New_York
BEGIN:VTIMEZONE
TZID:America/New_York
BEGIN:STANDARD
TZNAME:EST
DTSTART:20241103T020000
TZOFFSETFROM:-0400
TZOFFSETTO:-0500
RDATE:20251102T020000
END:STANDARD
BEGIN:DAYLIGHT
TZNAME:EDT
DTSTART:20240310T020000
TZOFFSETFROM:-0500
TZOFFSETTO:-0400
RDATE:20250309T020000
RDATE:20260308T020000
END:DAYLIGHT
END:VTIMEZONE
BEGIN:VEVENT
UID:29fd1050-bf21-4bd0-8ce0-e624d84cccc2
DTSTAMP:20260424T010346Z
DESCRIPTION:This webinar will review the latest housing guide released by t
 he Supportive Housing Association (SHA). Kate Kelly\, Executive Director o
 f the Supportive Housing Association of NJ\, will discuss partnerships\, p
 lanning\, and organizations behind these effective housing developments sh
 ared in the guide\, that provides affordable\, accessible homes with suppo
 rt services tailored to the needs of a variety of populations.
DTSTART;TZID=America/New_York:20250211T130000
DTEND;TZID=America/New_York:20250211T140000
LOCATION:https://register.gotowebinar.com/register/1006468099366554713
SUMMARY:An Overview of SHA and their Updated Housing Guide
END:VEVENT
END:VCALENDAR
