BEGIN:VCALENDAR
VERSION:2.0
PRODID:-//www.thearcfamilyinstitute.org//NONSGML kigkonsult.se iCalcreator 
 2.30.10//
CALSCALE:GREGORIAN
METHOD:PUBLISH
UID:4f518b80-ba25-43f8-8637-dc8e7709ce25
X-WR-CALDESC:Special Smiles New Jersey provides compassionate and comprehen
 sive oral healthcare for people with intellectual\, psychological\, or dev
 elopmental disabilities who require general anesthesia to safely receive h
 igh quality dental care.\n\nTheir special care dentists have over 80 years
  of combined dental experience and specialized training. Every staff membe
 r understands that individuals with special needs often have unique concer
 ns. Special Smiles strives to provide a place of comfort and an elevated t
 reatment experience for every patient\, and to give them a dental home for
  life.\n\nPresenters: \n\nKaren Wilson Andrews\, BSN\, RN\, has developed 
 a diverse background in critical care\, hospice\, and nursing education. A
 s Clinical Liaison\, Karen works closely with patients\, families\, caregi
 vers\, and group home directors to address the unique challenges of provid
 ing safe and effective dental care for patients with special needs. \n\nBu
 d Dranoff serves as a Patient Advocate for Special Smiles. He has extensiv
 e experience collaborating with government agencies\, care providers\, and
  advocacy groups. Bud is passionate about improving the quality of life fo
 r individuals with disabilities and their right to access high-quality hea
 lthcare.\n
X-WR-RELCALID:ef080e4d559c299134c93d4511e2bc8a
X-WR-TIMEZONE:America/New_York
BEGIN:VTIMEZONE
TZID:America/New_York
BEGIN:STANDARD
TZNAME:EST
DTSTART:20241103T020000
TZOFFSETFROM:-0400
TZOFFSETTO:-0500
RDATE:20251102T020000
END:STANDARD
BEGIN:DAYLIGHT
TZNAME:EDT
DTSTART:20240310T020000
TZOFFSETFROM:-0500
TZOFFSETTO:-0400
RDATE:20250309T020000
RDATE:20260308T020000
END:DAYLIGHT
END:VTIMEZONE
BEGIN:VEVENT
UID:7c058d6c-5493-46e0-8f6d-9a46125ceb80
DTSTAMP:20260424T010344Z
DESCRIPTION:Special Smiles New Jersey provides compassionate and comprehens
 ive oral healthcare for people with intellectual\, psychological\, or deve
 lopmental disabilities who require general anesthesia to safely receive hi
 gh quality dental care.\n\nTheir special care dentists have over 80 years 
 of combined dental experience and specialized training. Every staff member
  understands that individuals with special needs often have unique concern
 s. Special Smiles strives to provide a place of comfort and an elevated tr
 eatment experience for every patient\, and to give them a dental home for 
 life.\n\nPresenters: \n\nKaren Wilson Andrews\, BSN\, RN\, has developed a
  diverse background in critical care\, hospice\, and nursing education. As
  Clinical Liaison\, Karen works closely with patients\, families\, caregiv
 ers\, and group home directors to address the unique challenges of providi
 ng safe and effective dental care for patients with special needs. \n\nBud
  Dranoff serves as a Patient Advocate for Special Smiles. He has extensive
  experience collaborating with government agencies\, care providers\, and 
 advocacy groups. Bud is passionate about improving the quality of life for
  individuals with disabilities and their right to access high-quality heal
 thcare.\n
DTSTART;TZID=America/New_York:20250206T140000
DTEND;TZID=America/New_York:20250206T153000
LOCATION:https://register.gotowebinar.com/register/2871487211046814298
SUMMARY:Special Smiles - Comprehensive Dental Care for Persons with Special
  Needs
END:VEVENT
END:VCALENDAR
