BEGIN:VCALENDAR
VERSION:2.0
PRODID:-//www.thearcfamilyinstitute.org//NONSGML kigkonsult.se iCalcreator 
 2.30.10//
CALSCALE:GREGORIAN
METHOD:PUBLISH
UID:f5544252-a153-411d-8c9d-04fdcbdea231
X-WR-CALDESC:Take a break and have lunch with Adara Heilmann\, Director of 
 Children's Advocacy at The Arc of New Jersey and Daryl Brewton\, Community
  Outreach Liaison with ABA Centers of New Jersey. Daryl will give us an ov
 erview of their centers including new locations\, ways to access ADOS and 
 MDOS testing within 3 weeks\, and an overview of ABA therapy\, including d
 ifferences in teen ABA therapy. Looking forward to seeing you there!
X-WR-RELCALID:28b2ced142594240d8ab52b555670a18
X-WR-TIMEZONE:America/New_York
BEGIN:VTIMEZONE
TZID:America/New_York
BEGIN:STANDARD
TZNAME:EST
DTSTART:20241103T020000
TZOFFSETFROM:-0400
TZOFFSETTO:-0500
RDATE:20251102T020000
END:STANDARD
BEGIN:DAYLIGHT
TZNAME:EDT
DTSTART:20240310T020000
TZOFFSETFROM:-0500
TZOFFSETTO:-0400
RDATE:20250309T020000
RDATE:20260308T020000
END:DAYLIGHT
END:VTIMEZONE
BEGIN:VEVENT
UID:c6d4b549-c47a-4082-a659-3ab745880354
DTSTAMP:20260424T005907Z
DESCRIPTION:Take a break and have lunch with Adara Heilmann\, Director of C
 hildren's Advocacy at The Arc of New Jersey and Daryl Brewton\, Community 
 Outreach Liaison with ABA Centers of New Jersey. Daryl will give us an ove
 rview of their centers including new locations\, ways to access ADOS and M
 DOS testing within 3 weeks\, and an overview of ABA therapy\, including di
 fferences in teen ABA therapy. Looking forward to seeing you there!
DTSTART;TZID=America/New_York:20250205T120000
DTEND;TZID=America/New_York:20250205T133000
LOCATION:https://register.gotowebinar.com/register/8055690033660088672
SUMMARY:Lunch Break Learning: ABA and ADOS testing with Daryl Brewton
END:VEVENT
END:VCALENDAR
