BEGIN:VCALENDAR
VERSION:2.0
PRODID:-//www.thearcfamilyinstitute.org//NONSGML kigkonsult.se iCalcreator 
 2.30.10//
CALSCALE:GREGORIAN
METHOD:PUBLISH
UID:011b241d-99fa-408d-b04b-bb153e310b85
X-WR-CALDESC:
X-WR-RELCALID:0f8e571193bc85703a23f810d8b9e1e4
X-WR-TIMEZONE:America/New_York
BEGIN:VTIMEZONE
TZID:America/New_York
BEGIN:STANDARD
TZNAME:EST
DTSTART:20241103T020000
TZOFFSETFROM:-0400
TZOFFSETTO:-0500
RDATE:20251102T020000
END:STANDARD
BEGIN:DAYLIGHT
TZNAME:EDT
DTSTART:20240310T020000
TZOFFSETFROM:-0500
TZOFFSETTO:-0400
RDATE:20250309T020000
RDATE:20260308T020000
END:DAYLIGHT
END:VTIMEZONE
BEGIN:VEVENT
UID:ae8439fd-7593-4330-a435-005dd9042b75
DTSTAMP:20260424T022528Z
DESCRIPTION:
DTSTART;TZID=America/New_York:20250115T130000
DTEND;TZID=America/New_York:20250115T140000
LOCATION:https://us06web.zoom.us/meeting/register/tZwpd-urqT0pE9Q92ABSM4Env
 mCxopFhBmf2
SUMMARY:My Child Just Turned 18! What Do I Need to Do?
END:VEVENT
END:VCALENDAR
