BEGIN:VCALENDAR
VERSION:2.0
PRODID:-//www.thearcfamilyinstitute.org//NONSGML kigkonsult.se iCalcreator 
 2.30.10//
CALSCALE:GREGORIAN
METHOD:PUBLISH
UID:c838041a-694c-48c9-95f6-367ce9f61e79
X-WR-CALDESC:Join us as we chat with Adara Heilmann who will give us an ove
 rview of the Functional Behavior Assessment\, why they are important\, and
  how you can request one at your next IEP meeting.
X-WR-RELCALID:d1ba621f3bf96bd31cbc8a471d803ac6
X-WR-TIMEZONE:America/New_York
BEGIN:VTIMEZONE
TZID:America/New_York
BEGIN:STANDARD
TZNAME:EST
DTSTART:20241103T020000
TZOFFSETFROM:-0400
TZOFFSETTO:-0500
RDATE:20251102T020000
END:STANDARD
BEGIN:DAYLIGHT
TZNAME:EDT
DTSTART:20240310T020000
TZOFFSETFROM:-0500
TZOFFSETTO:-0400
RDATE:20250309T020000
RDATE:20260308T020000
END:DAYLIGHT
END:VTIMEZONE
BEGIN:VEVENT
UID:a1298997-6528-4c5d-8453-452490391c69
DTSTAMP:20260424T021055Z
DESCRIPTION:Join us as we chat with Adara Heilmann who will give us an over
 view of the Functional Behavior Assessment\, why they are important\, and 
 how you can request one at your next IEP meeting.
DTSTART;TZID=America/New_York:20250114T130000
DTEND;TZID=America/New_York:20250114T133000
LOCATION:https://us06web.zoom.us/meeting/register/aADSi-NsQ_W6n2TPi3RBEQ
SUMMARY:Fireside Chat - Let's Talk Functional Behavior Assessments with Ada
 ra
END:VEVENT
END:VCALENDAR
