BEGIN:VCALENDAR
VERSION:2.0
PRODID:-//www.thearcfamilyinstitute.org//NONSGML kigkonsult.se iCalcreator 
 2.30.10//
CALSCALE:GREGORIAN
METHOD:PUBLISH
UID:ca3f51c9-ea5f-4861-badc-02e45193bef7
X-WR-CALDESC:
X-WR-RELCALID:47fb5870e2769c179d781b006bd19630
X-WR-TIMEZONE:America/New_York
BEGIN:VTIMEZONE
TZID:America/New_York
BEGIN:STANDARD
TZNAME:EST
DTSTART:20241103T020000
TZOFFSETFROM:-0400
TZOFFSETTO:-0500
RDATE:20251102T020000
END:STANDARD
BEGIN:DAYLIGHT
TZNAME:EDT
DTSTART:20240310T020000
TZOFFSETFROM:-0500
TZOFFSETTO:-0400
RDATE:20250309T020000
RDATE:20260308T020000
END:DAYLIGHT
END:VTIMEZONE
BEGIN:VEVENT
UID:8e9df694-b622-4166-a36e-302c3dfeff3c
DTSTAMP:20260424T033403Z
DESCRIPTION:
DTSTART;TZID=America/New_York:20241204T130000
DTEND;TZID=America/New_York:20241204T140000
LOCATION:https://register.gotowebinar.com/register/6546237586312222041
SUMMARY:Person-Centered Life Planning - Securing the Future for People with
  Disabilities w/ Planned Lifetime Assistance Network of New Jersey (PLAN/N
 J)
END:VEVENT
END:VCALENDAR
