BEGIN:VCALENDAR
VERSION:2.0
PRODID:-//www.thearcfamilyinstitute.org//NONSGML kigkonsult.se iCalcreator 
 2.30.10//
CALSCALE:GREGORIAN
METHOD:PUBLISH
UID:0410ebe8-4f01-4f6e-a2b2-deec3254b061
X-WR-CALDESC:Our guest presenter for this event is Veronica Ramirez\, owner
  of Vero Pure Green\, Health Coaching Services. She will be providing nutr
 ition tips and teaching us how to prepare a healthy and delicious recipe. 
 If you'd like to follow along please make sure to have the below ingredien
 ts on hand: **To be provided Veronica Ramirez is a long distance runner\, 
 educator and a Certified Integrative Nutritional Health Coach. She is also
  a wife\, a busy mom of two amazing boys and lifelong fitness fan. Veronic
 a is extremely passionate about health and movement and also about the pow
 er of raw and whole foods. She believes in the healing power of natural fo
 ods and also love teaching others how to transform their health by improvi
 ng their diet and lifestyle. For more on Vero Pure Green: https://www.vero
 puregreen.com
X-WR-RELCALID:c1b28aedd1785bfede4e687f5afdb1df
X-WR-TIMEZONE:America/New_York
BEGIN:VTIMEZONE
TZID:America/New_York
BEGIN:STANDARD
TZNAME:EST
DTSTART:20241103T020000
TZOFFSETFROM:-0400
TZOFFSETTO:-0500
RDATE:20251102T020000
END:STANDARD
BEGIN:DAYLIGHT
TZNAME:EDT
DTSTART:20240310T020000
TZOFFSETFROM:-0500
TZOFFSETTO:-0400
RDATE:20250309T020000
RDATE:20260308T020000
END:DAYLIGHT
END:VTIMEZONE
BEGIN:VEVENT
UID:23ff8194-5dc7-45c5-b458-625e87e55908
DTSTAMP:20260424T033241Z
DESCRIPTION:Our guest presenter for this event is Veronica Ramirez\, owner 
 of Vero Pure Green\, Health Coaching Services. She will be providing nutri
 tion tips and teaching us how to prepare a healthy and delicious recipe. I
 f you'd like to follow along please make sure to have the below ingredient
 s on hand: **To be provided Veronica Ramirez is a long distance runner\, e
 ducator and a Certified Integrative Nutritional Health Coach. She is also 
 a wife\, a busy mom of two amazing boys and lifelong fitness fan. Veronica
  is extremely passionate about health and movement and also about the powe
 r of raw and whole foods. She believes in the healing power of natural foo
 ds and also love teaching others how to transform their health by improvin
 g their diet and lifestyle. For more on Vero Pure Green: https://www.verop
 uregreen.com
DTSTART;TZID=America/New_York:20241204T110000
DTEND;TZID=America/New_York:20241204T120000
LOCATION:https://us06web.zoom.us/meeting/register/tZUscuGpqjgsG9wT0zOCOy-9U
 rfnK8aYQ9VV#/registration
SUMMARY:NJSAP: Food for thought: Recipe
END:VEVENT
END:VCALENDAR
