BEGIN:VCALENDAR
VERSION:2.0
PRODID:-//www.thearcfamilyinstitute.org//NONSGML kigkonsult.se iCalcreator 
 2.30.10//
CALSCALE:GREGORIAN
METHOD:PUBLISH
UID:8d8846f2-eec8-4679-91aa-3da1208fa7c8
X-WR-CALDESC:**This is a recording of a previous webinar. Experience it for
  the first time or rewatch it to gain a better understanding of the topic.
  The question box will be open and we will respond to any questions 24 hou
 rs after the event. \n\nJoin Erin Smithers\, Director of the NJ Self-Advoc
 acy Project\, in discussing sexual harassment and boundaries. This webinar
  will touch on how to identify inappropriate behaviors and harassment\, le
 arning proper social norms\, and understanding and expressing boundaries.
X-WR-RELCALID:c417fcf6d618e5d58dc5967766bf531a
X-WR-TIMEZONE:America/New_York
BEGIN:VTIMEZONE
TZID:America/New_York
BEGIN:STANDARD
TZNAME:EST
DTSTART:20241103T020000
TZOFFSETFROM:-0400
TZOFFSETTO:-0500
RDATE:20251102T020000
END:STANDARD
BEGIN:DAYLIGHT
TZNAME:EDT
DTSTART:20240310T020000
TZOFFSETFROM:-0500
TZOFFSETTO:-0400
RDATE:20250309T020000
RDATE:20260308T020000
END:DAYLIGHT
END:VTIMEZONE
BEGIN:VEVENT
UID:72f1de85-088a-485e-b7e2-27677bd1b662
DTSTAMP:20260424T045926Z
DESCRIPTION:**This is a recording of a previous webinar. Experience it for 
 the first time or rewatch it to gain a better understanding of the topic. 
 The question box will be open and we will respond to any questions 24 hour
 s after the event. \n\nJoin Erin Smithers\, Director of the NJ Self-Advoca
 cy Project\, in discussing sexual harassment and boundaries. This webinar 
 will touch on how to identify inappropriate behaviors and harassment\, lea
 rning proper social norms\, and understanding and expressing boundaries.
DTSTART;TZID=America/New_York:20241126T140000
DTEND;TZID=America/New_York:20241126T150000
LOCATION:https://us06web.zoom.us/webinar/register/WN_uzrliI19Twegz1StOhWKvA
 #/registration
SUMMARY:NJSAP:REPLAY: Sexual Harassment and Boundaries
END:VEVENT
END:VCALENDAR
