BEGIN:VCALENDAR
VERSION:2.0
PRODID:-//www.thearcfamilyinstitute.org//NONSGML kigkonsult.se iCalcreator 
 2.30.10//
CALSCALE:GREGORIAN
METHOD:PUBLISH
UID:29b177a6-f2a4-435b-b1ee-92e4dac929aa
X-WR-CALDESC:Join us for an in-person college tour of The Achievement Cente
 r at Raritan Valley Community College.
X-WR-RELCALID:4f2e2d6a764276ec5cea5e6ecb600510
X-WR-TIMEZONE:America/New_York
BEGIN:VTIMEZONE
TZID:America/New_York
BEGIN:STANDARD
TZNAME:EST
DTSTART:20241103T020000
TZOFFSETFROM:-0400
TZOFFSETTO:-0500
RDATE:20251102T020000
END:STANDARD
BEGIN:DAYLIGHT
TZNAME:EDT
DTSTART:20240310T020000
TZOFFSETFROM:-0500
TZOFFSETTO:-0400
RDATE:20250309T020000
RDATE:20260308T020000
END:DAYLIGHT
END:VTIMEZONE
BEGIN:VEVENT
UID:7675d574-ba1e-4df5-9645-c561ac99b094
DTSTAMP:20260424T050007Z
DESCRIPTION:Join us for an in-person college tour of The Achievement Center
  at Raritan Valley Community College.
DTSTART;TZID=America/New_York:20241122T110000
DTEND;TZID=America/New_York:20241122T130000
LOCATION:118 Lamington Rd\, Branchburg\, NJ 08876 US
SUMMARY:Tour With Us! - In-Person Tour: The Achievement Center at Raritan V
 alley Community College
END:VEVENT
END:VCALENDAR
