BEGIN:VCALENDAR
VERSION:2.0
PRODID:-//www.thearcfamilyinstitute.org//NONSGML kigkonsult.se iCalcreator 
 2.30.10//
CALSCALE:GREGORIAN
METHOD:PUBLISH
UID:a549e9ac-9dbe-4708-924b-caff117d65ac
X-WR-CALDESC:An overview of the NJ CAT. After registering\, you will receiv
 e a confirmation email containing information about joining the meeting.
X-WR-RELCALID:58a8b7bfe21c728c25f9c0eedf0e86da
X-WR-TIMEZONE:America/New_York
BEGIN:VTIMEZONE
TZID:America/New_York
BEGIN:STANDARD
TZNAME:EST
DTSTART:20241103T020000
TZOFFSETFROM:-0400
TZOFFSETTO:-0500
RDATE:20251102T020000
END:STANDARD
BEGIN:DAYLIGHT
TZNAME:EDT
DTSTART:20240310T020000
TZOFFSETFROM:-0500
TZOFFSETTO:-0400
RDATE:20250309T020000
RDATE:20260308T020000
END:DAYLIGHT
END:VTIMEZONE
BEGIN:VEVENT
UID:5a4cfa05-9a6a-443d-baac-dfdcf463d128
DTSTAMP:20260424T045922Z
DESCRIPTION:An overview of the NJ CAT. After registering\, you will receive
  a confirmation email containing information about joining the meeting.
DTSTART;TZID=America/New_York:20241120T183000
DTEND;TZID=America/New_York:20241120T193000
LOCATION:https://hinkle1.zoom.us/meeting/register/tZwuduigpjgrG9cYQC39-mjNV
 8HmhnkX2kT8
SUMMARY:An Overview of the NJ CAT
END:VEVENT
END:VCALENDAR
