BEGIN:VCALENDAR
VERSION:2.0
PRODID:-//www.thearcfamilyinstitute.org//NONSGML kigkonsult.se iCalcreator 
 2.30.10//
CALSCALE:GREGORIAN
METHOD:PUBLISH
UID:8f90f582-d31a-419b-9806-f23953606826
X-WR-CALDESC:The Family Institute and The Arc of Atlantic invite you to a v
 irtual event where you can learn more about our programs!\n\nConnor Griffi
 n\, Director of Health Care Advocacy\, will provide an overview of SSI and
  Medicaid.\n\nWe encourage you to join us and share your Medicaid stories.
X-WR-RELCALID:363869023906f0e940988025e02cc701
X-WR-TIMEZONE:America/New_York
BEGIN:VTIMEZONE
TZID:America/New_York
BEGIN:STANDARD
TZNAME:EST
DTSTART:20241103T020000
TZOFFSETFROM:-0400
TZOFFSETTO:-0500
RDATE:20251102T020000
END:STANDARD
BEGIN:DAYLIGHT
TZNAME:EDT
DTSTART:20240310T020000
TZOFFSETFROM:-0500
TZOFFSETTO:-0400
RDATE:20250309T020000
RDATE:20260308T020000
END:DAYLIGHT
END:VTIMEZONE
BEGIN:VEVENT
UID:aad9d9e0-9d86-45f1-9899-eff51b2a92c5
DTSTAMP:20260424T045854Z
DESCRIPTION:The Family Institute and The Arc of Atlantic invite you to a vi
 rtual event where you can learn more about our programs!\n\nConnor Griffin
 \, Director of Health Care Advocacy\, will provide an overview of SSI and 
 Medicaid.\n\nWe encourage you to join us and share your Medicaid stories.
DTSTART;TZID=America/New_York:20241118T183000
DTEND;TZID=America/New_York:20241118T203000
LOCATION:https://us06web.zoom.us/meeting/register/tZEpc--hpjwsHdFVKp5RArt3x
 iI08FNUkNKt
SUMMARY:Medicaid Monday - The Arc of Atlantic
END:VEVENT
END:VCALENDAR
