BEGIN:VCALENDAR
VERSION:2.0
PRODID:-//www.thearcfamilyinstitute.org//NONSGML kigkonsult.se iCalcreator 
 2.30.10//
CALSCALE:GREGORIAN
METHOD:PUBLISH
UID:fb2fba3e-fb2d-409e-84ed-5ad7f217b2c7
X-WR-CALDESC:The Family Institute\, NJ FamilyCare\, and The Arc of Essex in
 vite you to a virtual event where you can learn more about our programs!\n
 \nConnor Griffin\, Director of Health Care Advocacy\, will provide an over
 view of SSI and Medicaid.\n\nWe encourage you to join us and share your Me
 dicaid stories.
X-WR-RELCALID:2edce37939c278938fad030916f30a7e
X-WR-TIMEZONE:America/New_York
BEGIN:VTIMEZONE
TZID:America/New_York
BEGIN:STANDARD
TZNAME:EST
DTSTART:20231105T020000
TZOFFSETFROM:-0400
TZOFFSETTO:-0500
RDATE:20241103T020000
RDATE:20251102T020000
END:STANDARD
BEGIN:DAYLIGHT
TZNAME:EDT
DTSTART:20240310T020000
TZOFFSETFROM:-0500
TZOFFSETTO:-0400
RDATE:20250309T020000
RDATE:20260308T020000
END:DAYLIGHT
END:VTIMEZONE
BEGIN:VEVENT
UID:8de36288-d759-440e-9ff3-bb1873149466
DTSTAMP:20260424T062858Z
DESCRIPTION:The Family Institute\, NJ FamilyCare\, and The Arc of Essex inv
 ite you to a virtual event where you can learn more about our programs!\n
 \nConnor Griffin\, Director of Health Care Advocacy\, will provide an over
 view of SSI and Medicaid.\n\nWe encourage you to join us and share your Me
 dicaid stories.
DTSTART;TZID=America/New_York:20241021T183000
DTEND;TZID=America/New_York:20241021T203000
LOCATION:https://bit.ly/essexmedicaidmondayzoom
SUMMARY:Medicaid Monday - The Arc of Essex
END:VEVENT
END:VCALENDAR
