BEGIN:VCALENDAR
VERSION:2.0
PRODID:-//www.thearcfamilyinstitute.org//NONSGML kigkonsult.se iCalcreator 
 2.30.10//
CALSCALE:GREGORIAN
METHOD:PUBLISH
UID:0a893b72-4543-4f5f-8891-f7b041d20620
X-WR-CALDESC:Identifying and addressing the unique barriers and health disp
 arities faced by adults with intellectual and developmental disabilities (
 I/DD)\, while equipping participants with strategies for effective communi
 cation\, supported decision-making\, and access to appropriate health and 
 community resources. We will explore the challenges associated with aging 
 care needs within this population\, fostering a comprehensive understandin
 g of their healthcare requirements.
X-WR-RELCALID:f7f52b948d0fba3eab3b8302629583cb
X-WR-TIMEZONE:America/New_York
BEGIN:VTIMEZONE
TZID:America/New_York
BEGIN:STANDARD
TZNAME:EST
DTSTART:20231105T020000
TZOFFSETFROM:-0400
TZOFFSETTO:-0500
RDATE:20241103T020000
RDATE:20251102T020000
END:STANDARD
BEGIN:DAYLIGHT
TZNAME:EDT
DTSTART:20240310T020000
TZOFFSETFROM:-0500
TZOFFSETTO:-0400
RDATE:20250309T020000
RDATE:20260308T020000
END:DAYLIGHT
END:VTIMEZONE
BEGIN:VEVENT
UID:ea66b5cd-6ab3-43fd-a62d-3937806cb652
DTSTAMP:20260424T062546Z
DESCRIPTION:Identifying and addressing the unique barriers and health dispa
 rities faced by adults with intellectual and developmental disabilities (I
 /DD)\, while equipping participants with strategies for effective communic
 ation\, supported decision-making\, and access to appropriate health and c
 ommunity resources. We will explore the challenges associated with aging c
 are needs within this population\, fostering a comprehensive understanding
  of their healthcare requirements.
DTSTART;TZID=America/New_York:20241017T120000
DTEND;TZID=America/New_York:20241017T130000
LOCATION:https://rutgers.ca1.qualtrics.com/jfe/form/SV_d72ad7Nsp48nqXs?NAS=
 1
SUMMARY:Optimizing Care for Aging Adults with I/DD: A Simulation-Based ECHO
  Model Approach (I/DD ECHO)
END:VEVENT
END:VCALENDAR
