BEGIN:VCALENDAR
VERSION:2.0
PRODID:-//www.thearcfamilyinstitute.org//NONSGML kigkonsult.se iCalcreator 
 2.30.10//
CALSCALE:GREGORIAN
METHOD:PUBLISH
UID:d790015e-47eb-4a58-9c51-c2bb569a470a
X-WR-CALDESC:This chat will give an overview of PerformCare\, Children's Sy
 stem of Care (CSOC) Summer Camp Services\, and the Transition from the Dep
 artment of Children and Families (DCF) to the Division of Developmental Di
 sabilities (DDD) and Medicaid Eligibility.
X-WR-RELCALID:bca292415180cf71f698911c0768af1d
X-WR-TIMEZONE:America/New_York
BEGIN:VTIMEZONE
TZID:America/New_York
BEGIN:STANDARD
TZNAME:EST
DTSTART:20231105T020000
TZOFFSETFROM:-0400
TZOFFSETTO:-0500
RDATE:20241103T020000
RDATE:20251102T020000
END:STANDARD
BEGIN:DAYLIGHT
TZNAME:EDT
DTSTART:20240310T020000
TZOFFSETFROM:-0500
TZOFFSETTO:-0400
RDATE:20250309T020000
RDATE:20260308T020000
END:DAYLIGHT
END:VTIMEZONE
BEGIN:VEVENT
UID:b3ba9d1d-76e6-4610-a7b9-ab06b37c38e6
DTSTAMP:20260424T062858Z
DESCRIPTION:This chat will give an overview of PerformCare\, Children's Sys
 tem of Care (CSOC) Summer Camp Services\, and the Transition from the Depa
 rtment of Children and Families (DCF) to the Division of Developmental Dis
 abilities (DDD) and Medicaid Eligibility.
DTSTART;TZID=America/New_York:20241016T130000
DTEND;TZID=America/New_York:20241016T140000
LOCATION:https://us06web.zoom.us/meeting/register/tZEvd-2hrjwuHN2NvYNsfn3Xz
 vKpX_lw_ngD
SUMMARY:Fireside Chat with Alex Encarnacion Assistant Director\, Office of 
 Constituent Affairs (DCF) & Staff
END:VEVENT
END:VCALENDAR
