BEGIN:VCALENDAR
VERSION:2.0
PRODID:-//www.thearcfamilyinstitute.org//NONSGML kigkonsult.se iCalcreator 
 2.30.10//
CALSCALE:GREGORIAN
METHOD:PUBLISH
UID:eb70bb5a-be5c-41e7-a196-f65814965c82
X-WR-CALDESC:This event will be offered in a hybrid format\, allowing you t
 o attend either in person or virtually.\n\nA one day conference focusing o
 n training and education for current and future healthcare professionals i
 n better understanding and meeting the health and medical needs of people 
 with intellectual and developmental disabilities (IDD).\n\n<b>Opening Rema
 rks: 9:30am - 9:45am</b>\n\n<b>9:45am - 11:15am Health Care and People wit
 h IDD: Better Care for a Better Future</b>\n\n● Jennifer LeComte\, DO\, Di
 rector\, Rowan-Virtua Regional Integrated Special\nNeeds (RISN) Center\,\n
 ● Wendy Aita\, PhD\, Co-Director\, Rowan-Virtua Regional Integrated Specia
 l Needs\n(RISN) Center\,\n● John J. Nevins\, DO\, FAAFP\, Medical Director
 \, Chatham Family Medicine\nOverlook Medical Center\, and\n● Evan Spivack\
 , DDS\, Professor of Pediatric Dentistry\, Special Care Treatment\nCenter\
 , Rutgers School of Dental Medicine\n\n<b>11:30am - 1:00pm Concurrent Work
 shop Sessions (Choose 1 to attend)</b>\n\n<b>Workshop A: Aging Individuals
  with IDD and Dementia</b>\n● Seth M. Keller\, MD\, FAAN\, Neurology Assoc
 iates of South Jersey\, Co-President\nof the National Task Group on Intell
 ectual Disabilities and Dementia Practices\n(NTG)\, Past President of the 
 American Academy of Developmental Medicine and\nDentistry (AADMD)\n\n<b>Wo
 rkshop B: Oral Health and Access to Dental Care</b>\n● Evan Spivack\, DDS\
 , Professor of Pediatric Dentistry\, Special Care Treatment\nCenter\, Rutg
 ers School of Dental Medicine\n\n<b>Workshop C: Providing Direct Care in t
 he IDD Community: From Our Local Chapters</b>\n● Annette Dunnah\, MSN\, RN
 \, CDDN\, NC-BC\, Senior Director of Health Services\,\nThe Arc of Monmout
 h Primary Care Center\,\n● Jessica Turro\, NP\, The Arc of Monmouth Primar
 y Care Center\, and\n● Pauline Park-Maxwell\, APN\, DNP\, The Arc of Merce
 r Health Care Center
X-WR-RELCALID:c8ab91c6c20ad77be9c5783149cbf17e
X-WR-TIMEZONE:America/New_York
BEGIN:VTIMEZONE
TZID:America/New_York
BEGIN:STANDARD
TZNAME:EST
DTSTART:20231105T020000
TZOFFSETFROM:-0400
TZOFFSETTO:-0500
RDATE:20241103T020000
RDATE:20251102T020000
END:STANDARD
BEGIN:DAYLIGHT
TZNAME:EDT
DTSTART:20240310T020000
TZOFFSETFROM:-0500
TZOFFSETTO:-0400
RDATE:20250309T020000
RDATE:20260308T020000
END:DAYLIGHT
END:VTIMEZONE
BEGIN:VEVENT
UID:e1b9969a-83ac-4d91-a7e0-95b6afde1491
DTSTAMP:20260424T062756Z
DESCRIPTION:This event will be offered in a hybrid format\, allowing you to
  attend either in person or virtually.\n\nA one day conference focusing on
  training and education for current and future healthcare professionals in
  better understanding and meeting the health and medical needs of people w
 ith intellectual and developmental disabilities (IDD).\n\n<b>Opening Remar
 ks: 9:30am - 9:45am</b>\n\n<b>9:45am - 11:15am Health Care and People with
  IDD: Better Care for a Better Future</b>\n\n● Jennifer LeComte\, DO\, Dir
 ector\, Rowan-Virtua Regional Integrated Special\nNeeds (RISN) Center\,\n●
  Wendy Aita\, PhD\, Co-Director\, Rowan-Virtua Regional Integrated Special
  Needs\n(RISN) Center\,\n● John J. Nevins\, DO\, FAAFP\, Medical Director\
 , Chatham Family Medicine\nOverlook Medical Center\, and\n● Evan Spivack\,
  DDS\, Professor of Pediatric Dentistry\, Special Care Treatment\nCenter\,
  Rutgers School of Dental Medicine\n\n<b>11:30am - 1:00pm Concurrent Works
 hop Sessions (Choose 1 to attend)</b>\n\n<b>Workshop A: Aging Individuals 
 with IDD and Dementia</b>\n● Seth M. Keller\, MD\, FAAN\, Neurology Associ
 ates of South Jersey\, Co-President\nof the National Task Group on Intelle
 ctual Disabilities and Dementia Practices\n(NTG)\, Past President of the A
 merican Academy of Developmental Medicine and\nDentistry (AADMD)\n\n<b>Wor
 kshop B: Oral Health and Access to Dental Care</b>\n● Evan Spivack\, DDS\,
  Professor of Pediatric Dentistry\, Special Care Treatment\nCenter\, Rutge
 rs School of Dental Medicine\n\n<b>Workshop C: Providing Direct Care in th
 e IDD Community: From Our Local Chapters</b>\n● Annette Dunnah\, MSN\, RN\
 , CDDN\, NC-BC\, Senior Director of Health Services\,\nThe Arc of Monmouth
  Primary Care Center\,\n● Jessica Turro\, NP\, The Arc of Monmouth Primary
  Care Center\, and\n● Pauline Park-Maxwell\, APN\, DNP\, The Arc of Mercer
  Health Care Center
DTSTART;TZID=America/New_York:20241015T093000
DTEND;TZID=America/New_York:20241015T130000
LOCATION:1 Constitution Square\, New Brunswick\, NJ 08901 US
SUMMARY:2024 Beverly Roberts Memorial Healthcare Symposium
END:VEVENT
END:VCALENDAR
