BEGIN:VCALENDAR
VERSION:2.0
PRODID:-//www.thearcfamilyinstitute.org//NONSGML kigkonsult.se iCalcreator 
 2.30.10//
CALSCALE:GREGORIAN
METHOD:PUBLISH
UID:535df41b-410f-48da-9544-9e155f098b15
X-WR-CALDESC:Join us for an in-person college tour of the KACH program at B
 rookdale Community College. Link to directions: https://www.brookdalecc.ed
 u/about/maps-and-directions/
X-WR-RELCALID:2a09d8a5910bdcffd935f10c171d77f7
X-WR-TIMEZONE:America/New_York
BEGIN:VTIMEZONE
TZID:America/New_York
BEGIN:STANDARD
TZNAME:EST
DTSTART:20231105T020000
TZOFFSETFROM:-0400
TZOFFSETTO:-0500
RDATE:20241103T020000
RDATE:20251102T020000
END:STANDARD
BEGIN:DAYLIGHT
TZNAME:EDT
DTSTART:20240310T020000
TZOFFSETFROM:-0500
TZOFFSETTO:-0400
RDATE:20250309T020000
RDATE:20260308T020000
END:DAYLIGHT
END:VTIMEZONE
BEGIN:VEVENT
UID:7f072a45-132d-4a04-9c13-4b8fb6bcfe1f
DTSTAMP:20260424T062741Z
DESCRIPTION:Join us for an in-person college tour of the KACH program at Br
 ookdale Community College. Link to directions: https://www.brookdalecc.edu
 /about/maps-and-directions/
DTSTART;TZID=America/New_York:20241011T100000
DTEND;TZID=America/New_York:20241011T120000
LOCATION:765 Newman Springs Rd\, Lincroft\, NJ 07738 US
SUMMARY:In - Person Tour with KACH (Keep Achieving Program) At Brookdale Co
 mmunity College
END:VEVENT
END:VCALENDAR
