BEGIN:VCALENDAR
VERSION:2.0
PRODID:-//www.thearcfamilyinstitute.org//NONSGML kigkonsult.se iCalcreator 
 2.30.10//
CALSCALE:GREGORIAN
METHOD:PUBLISH
UID:f3fc8d79-1dd3-427d-a8d1-19fa60235688
X-WR-CALDESC:Learn how to secure guardianship and the importance of medical
  directives and durable powers of attorney for the long-term future. After
  registering\, you will receive a confirmation email containing informatio
 n about joining the meeting.
X-WR-RELCALID:22f2593d60f4f90aa613ce529628a11d
X-WR-TIMEZONE:America/New_York
BEGIN:VTIMEZONE
TZID:America/New_York
BEGIN:STANDARD
TZNAME:EST
DTSTART:20231105T020000
TZOFFSETFROM:-0400
TZOFFSETTO:-0500
RDATE:20241103T020000
RDATE:20251102T020000
END:STANDARD
BEGIN:DAYLIGHT
TZNAME:EDT
DTSTART:20240310T020000
TZOFFSETFROM:-0500
TZOFFSETTO:-0400
RDATE:20250309T020000
RDATE:20260308T020000
END:DAYLIGHT
END:VTIMEZONE
BEGIN:VEVENT
UID:bc32bb40-268d-43fe-b87d-35e233436d2d
DTSTAMP:20260424T062639Z
DESCRIPTION:Learn how to secure guardianship and the importance of medical 
 directives and durable powers of attorney for the long-term future. After 
 registering\, you will receive a confirmation email containing information
  about joining the meeting.
DTSTART;TZID=America/New_York:20241009T183000
DTEND;TZID=America/New_York:20241009T193000
LOCATION:https://hinkle1.zoom.us/meeting/register/tZYqdu2grTouHdyv1o6XoaG7C
 SAgSvBi4qAg#/registration
SUMMARY:Guardianship and Durable Powers of Attorney
END:VEVENT
END:VCALENDAR
