BEGIN:VCALENDAR
VERSION:2.0
PRODID:-//www.thearcfamilyinstitute.org//NONSGML kigkonsult.se iCalcreator 
 2.30.10//
CALSCALE:GREGORIAN
METHOD:PUBLISH
UID:afdab531-95da-4d47-b99c-0cb9fdca4343
X-WR-CALDESC:The Family Institute\, NJ FamilyCare\, and The Arc of Monmouth
  will have tables at the event where you can learn more about our programs
 . Connor Griffin\, Director of Health Care Advocacy\, will provide an over
 view of SSI and Medicaid.\n\nWe encourage you to join us and share your Me
 dicaid stories.\n\nLight refreshments will be served.
X-WR-RELCALID:36f7504497954bb005b0da9f1fb03cba
X-WR-TIMEZONE:America/New_York
BEGIN:VTIMEZONE
TZID:America/New_York
BEGIN:STANDARD
TZNAME:EST
DTSTART:20231105T020000
TZOFFSETFROM:-0400
TZOFFSETTO:-0500
RDATE:20241103T020000
RDATE:20251102T020000
END:STANDARD
BEGIN:DAYLIGHT
TZNAME:EDT
DTSTART:20240310T020000
TZOFFSETFROM:-0500
TZOFFSETTO:-0400
RDATE:20250309T020000
RDATE:20260308T020000
END:DAYLIGHT
END:VTIMEZONE
BEGIN:VEVENT
UID:1d25c36d-fbef-4a34-97f4-364e5aaa2235
DTSTAMP:20260424T073841Z
DESCRIPTION:The Family Institute\, NJ FamilyCare\, and The Arc of Monmouth 
 will have tables at the event where you can learn more about our programs.
  Connor Griffin\, Director of Health Care Advocacy\, will provide an overv
 iew of SSI and Medicaid.\n\nWe encourage you to join us and share your Med
 icaid stories.\n\nLight refreshments will be served.
DTSTART;TZID=America/New_York:20240930T183000
DTEND;TZID=America/New_York:20240930T203000
LOCATION:1158 Wayside Rd\, Tinton Falls\, NJ 07712 US
SUMMARY:Medicaid Monday - The Arc of Monmouth
END:VEVENT
END:VCALENDAR
