BEGIN:VCALENDAR
VERSION:2.0
PRODID:-//www.thearcfamilyinstitute.org//NONSGML kigkonsult.se iCalcreator 
 2.30.10//
CALSCALE:GREGORIAN
METHOD:PUBLISH
UID:d479bc5b-dad2-4547-b497-c582ef187fd9
X-WR-CALDESC:**This is a recording of a previous webinar. Experience it for
  the first time or rewatch it to gain a better understanding of the topic.
  The question box will be open and we will respond to any questions 24 hou
 rs after the event.\n\nIn this webinar you will learn how to feel confiden
 t in a group of people and learning proper socialization techniques. Parti
 cipants will also further their understanding of boundaries. This webinar 
 is presented by Erin Smithers\, Assistant Director of the New Jersey Self-
 Advocacy Project.
X-WR-RELCALID:0b84ee4b92a23c7708ee592d4a3235da
X-WR-TIMEZONE:America/New_York
BEGIN:VTIMEZONE
TZID:America/New_York
BEGIN:STANDARD
TZNAME:EST
DTSTART:20231105T020000
TZOFFSETFROM:-0400
TZOFFSETTO:-0500
RDATE:20241103T020000
RDATE:20251102T020000
END:STANDARD
BEGIN:DAYLIGHT
TZNAME:EDT
DTSTART:20240310T020000
TZOFFSETFROM:-0500
TZOFFSETTO:-0400
RDATE:20250309T020000
RDATE:20260308T020000
END:DAYLIGHT
END:VTIMEZONE
BEGIN:VEVENT
UID:c2d57c4c-e66d-4635-abe3-ad5849a45026
DTSTAMP:20260424T073737Z
DESCRIPTION:**This is a recording of a previous webinar. Experience it for 
 the first time or rewatch it to gain a better understanding of the topic. 
 The question box will be open and we will respond to any questions 24 hour
 s after the event.\n\nIn this webinar you will learn how to feel confident
  in a group of people and learning proper socialization techniques. Partic
 ipants will also further their understanding of boundaries. This webinar i
 s presented by Erin Smithers\, Assistant Director of the New Jersey Self-A
 dvocacy Project.
DTSTART;TZID=America/New_York:20240924T140000
DTEND;TZID=America/New_York:20240924T150000
LOCATION:https://us06web.zoom.us/webinar/register/WN_OhXvzE7IRMGd68G7hX1veA
 #/registration
SUMMARY:REPLAY: Communication Frustrations: Improving Social Skills & Bound
 aries
END:VEVENT
END:VCALENDAR
